BEGIN:VCALENDAR
VERSION:2.0
PRODID:-//ChamberMaster//Event Calendar 2.0//EN
METHOD:PUBLISH
X-PUBLISHED-TTL:P3D
REFRESH-INTERVAL:P3D
CALSCALE:GREGORIAN
BEGIN:VEVENT
DTSTART:20150716T003000Z
DTEND:20150716T020000Z
X-MICROSOFT-CDO-ALLDAYEVENT:FALSE
SUMMARY:Rock My Business Plan - Summer Edition - Vancouver
DESCRIPTION:Join Futurpreneur Canada's Entrepreneur In Residence\, Chad Fryling\, and a group of like-minded entrepreneurs in the same start-up stage as you are\, for an exclusive summer edition of Rock My Business Plan. This is a business plan working group designed to help entrepreneurs create a killer business plan in record time. If you're aged 18 ? 39\, and are dead-serious about getting your start-up business off the ground or taking it to the next level\, you need to be here. We will cover 3Ms of a business plan: Mindset\, Market\, and Money. Expect networking\, strategic planning time\, and pointers on how to elevate your business right from the start. This session is for you if you: - Are 18 -39 years old - Have a strong business idea to flesh out OR recently launched - Are looking for a strategy and roadmap on next steps for your business - Want an opportunity for one-on-one taliored business coaching as you launch - Are looking for some money to get started and 2 years of mentorship after you launch How much is it? No charge\, for those considering a Futurpreneur Canada program*. Questions? Contact cfryling (at) futurpreneur (dot) ca. * You've "Registered as an Entrepreneur" here.
X-ALT-DESC;FMTTYPE=text/html:Join Futurpreneur Canada&#39\;s Entrepreneur In Residence\, Chad Fryling\, and a group of like-minded entrepreneurs in the same start-up stage as you are\, for an exclusive summer edition of Rock My Business Plan. This is a business plan working group designed to help entrepreneurs create a killer business plan in record time. If you&#39\;re aged 18 ? 39\, and are dead-serious about getting your start-up business off the ground or taking it to the next level\, you need to be here. We will cover 3Ms of a business plan: Mindset\, Market\, and Money. Expect networking\, strategic planning time\, and pointers on how to elevate your business right from the start. This session is for you if you: - Are 18 -39 years old - Have a strong business idea to flesh out OR recently launched - Are looking for a strategy and roadmap on next steps for your business - Want an opportunity for one-on-one taliored business coaching as you launch - Are looking for some money to get started and 2 years of mentorship after you launch How much is it? No charge\, for those considering a Futurpreneur Canada program*. Questions? Contact cfryling (at) futurpreneur (dot) ca. * You&#39\;ve &quot\;Registered as an Entrepreneur&quot\; here.
LOCATION:Futurpreneur Canada - Vancouver Office
UID:e.749.3609
SEQUENCE:3
DTSTAMP:20260423T171020Z
URL:https://business.businessinsurrey.com/events/details/rock-my-business-plan-summer-edition-vancouver-07-15-2015-3609
END:VEVENT

END:VCALENDAR
