BEGIN:VCALENDAR
VERSION:2.0
PRODID:-//ChamberMaster//Event Calendar 2.0//EN
METHOD:PUBLISH
X-PUBLISHED-TTL:P3D
REFRESH-INTERVAL:P3D
CALSCALE:GREGORIAN
BEGIN:VEVENT
DTSTART:20160922T153000Z
DTEND:20160922T193000Z
X-MICROSOFT-CDO-ALLDAYEVENT:FALSE
SUMMARY:PwC - Growing Your Business Into The U.S.
DESCRIPTION:Do you know how to navigate the challenges of doing business across borders? Join PwC for this half-day session where you will learn about the challenges you may face when expanding your business into the US. Our team will provide you with practical approaches to addressing these challenges. Whether your business is considering expansion\, has already started\, or is well established with international operations\, understanding the changing global landscape is an important factor in your success.\n\n\n\nKey Learnings:\n\n  Canadian and US income tax issues resulting from doing business in the US.\n\n  Transfer pricing factors impacting pricing of cross-border goods and services.\n\n  Canadian and US personal tax considerations for your employees.\n\n  Canadian and US immigration issues related to travelling between the two countries.\n\n  GST and PST considerations for trading goods and services across borders.\n\n  State income\, sales and other taxes that may impact your business. \n\n\n\nSpeakers:\n\nMike Shields\n\nPartner\, International Tax Services\n\n\n\nDiane Akelaitis\n\nPartner\, Global Mobility Services\n\n\n\nSusan Martyn\n\nSenior Manager\, PwC Immigration Law LLP\n\n\n\n*Program is eligible for CPA Professional Development Credits\n\n\n\nRegister here!
X-ALT-DESC;FMTTYPE=text/html:<span style="font-size:12px\;">Do you know how to navigate the challenges of doing business across borders? Join PwC for this half-day session where you will learn about the challenges you may face when expanding your business into the US. Our team will provide you with practical approaches to addressing these challenges. Whether your business is considering expansion\, has already started\, or is well established with international operations\, understanding the changing global landscape is an important factor in your success.<br />\n<br />\n<font face="Arial">Key Learnings:<br />\n&bull\; Canadian and US income tax issues resulting from doing business in the US.<br />\n&bull\; Transfer pricing factors impacting pricing of cross-border goods and services.<br />\n&bull\; Canadian and US personal tax considerations for your employees.<br />\n&bull\; Canadian and US immigration issues related to travelling between the two countries.<br />\n&bull\; GST and PST considerations for trading goods and services across borders.<br />\n&bull\; State income\, sales and other taxes that may impact your business. </font><br />\n<br />\n<font face="Arial">Speakers:<br />\nMike Shields<br />\nPartner\, International Tax Services<br />\n<br />\nDiane Akelaitis<br />\nPartner\, Global Mobility Services<br />\n<br />\nSusan Martyn<br />\nSenior Manager\, PwC Immigration Law LLP</font><br />\n<br />\n<font face="Arial">*Program is eligible for CPA Professional Development Credits</font></span><br />\n<br />\n<a href="http://events.ca.pwc.com/LP=130">Register here!</a><font size="3"> </font>
LOCATION:Northview Golf & Country Club 6857 168 Street Surrey\, BC
UID:e.749.5106
SEQUENCE:3
DTSTAMP:20260424T053015Z
URL:https://business.businessinsurrey.com/events/details/pwc-growing-your-business-into-the-u-s-09-22-2016-5106
END:VEVENT

END:VCALENDAR
