BEGIN:VCALENDAR
VERSION:2.0
PRODID:-//ChamberMaster//Event Calendar 2.0//EN
METHOD:PUBLISH
X-PUBLISHED-TTL:P3D
REFRESH-INTERVAL:P3D
CALSCALE:GREGORIAN
BEGIN:VEVENT
DTSTART:20120726T020000Z
DTEND:20120726T040000Z
X-MICROSOFT-CDO-ALLDAYEVENT:FALSE
SUMMARY:Product Development for You
DESCRIPTION:Have you got an idea for a great product or service?\n\n\nFind out how you can take your idea to the market without losing your house. \n\n\n	Come out to our Product Development Networking & Information Seminar.\n\n	 \n\n	Free with on-line registration at http://www.creatorconsulting.com/Seminars
X-ALT-DESC;FMTTYPE=text/html:<h3 style="color: blue">\n	Have you got an idea for a great product or service?</h3>\n<br />\n<span style="font-size: 14px"><strong>Find out how you can take your idea to the market without losing your house. </strong></span><br />\n<p>\n	<span style="font-size: 14px"><strong>Come out to our Product Development Networking &amp\; Information Seminar.</strong></span><br />\n	&nbsp\;</p>\n<h3 style="color: blue">\n	Free with on-line registration at http://www.creatorconsulting.com/Seminars</h3>\n
LOCATION:Best Western: Coquitlam Inn Convention Centre
UID:e.749.2088
SEQUENCE:3
DTSTAMP:20260421T064638Z
URL:https://business.businessinsurrey.com/events/details/product-development-for-you-07-25-2012-2088
END:VEVENT

END:VCALENDAR
