BEGIN:VCALENDAR
VERSION:2.0
PRODID:-//ChamberMaster//Event Calendar 2.0//EN
METHOD:PUBLISH
X-PUBLISHED-TTL:P3D
REFRESH-INTERVAL:P3D
CALSCALE:GREGORIAN
BEGIN:VEVENT
DTSTART:20160529T210000Z
DTEND:20160530T000000Z
X-MICROSOFT-CDO-ALLDAYEVENT:FALSE
SUMMARY:Panache on Parade Featuring Politicians and Other Persons of Interest
DESCRIPTION:Provincial and municipal politicians and others of note in the community will take to the runway to help CARP raise funds for the White Rock 'All Abilities Park' - an initiative of the White Rock Fire Fighters Charity. Featuring a fashion show\, speakers\, bistro food & drinks\, raffle & door prizes.  \n\n \n\n \nCARP   A New Vision of Aging for Canada is looking for raffle & door prizes. Email Ramona Kaptyn at whiterocksurrey@carp.ca or call 778-294-0787 if you would like to donate. In return\, you will get your name in the program\, all e-marketing/social media\, thank you at event and in Peace Arch News (circulation 38\,000). Reply soon. Time sensitive.
X-ALT-DESC;FMTTYPE=text/html:<div style="margin-bottom:0.0001pt"><span style="font-size:12px\;"><span style="font-family: arial\;">Provincial and municipal politicians and others of note in the community will take to the runway to help CARP raise funds for the White Rock &lsquo\;All Abilities Park&rsquo\; - an initiative of the White Rock Fire Fighters Charity. Featuring a fashion show\, speakers\, bistro food &amp\; drinks\, raffle &amp\; door prizes. &nbsp\;</span></span></div>\n\n<div style="margin-bottom:0.0001pt"><span style="font-size:12px\;"><span style="font-family: arial\;">&nbsp\;</span></span></div>\n\n<div>&nbsp\;</div>\n<span style="font-size:12px\;"><span style="font-family: arial\;">CARP &ndash\; A New Vision of Aging for Canada is looking for raffle &amp\; door prizes. Email Ramona Kaptyn at <a href="mailto:whiterocksurrey@carp.ca" target="_blank">whiterocksurrey@carp.ca</a> or call <a href="tel:778-294-0787" target="_blank" value="+17782940787">778-294-0787</a> if you would like to donate. In return\, you will get your name in the program\, all e-marketing/social media\, thank you at event and in Peace Arch News (circulation 38\,000). Reply soon. Time sensitive.</span></span>
LOCATION:Morgan Creek Golf Club\, South Surrey
UID:e.749.4889
SEQUENCE:3
DTSTAMP:20260424T070708Z
URL:https://business.businessinsurrey.com/events/details/panache-on-parade-featuring-politicians-and-other-persons-of-interest-05-29-2016-4889
END:VEVENT

END:VCALENDAR
