BEGIN:VCALENDAR
VERSION:2.0
PRODID:-//ChamberMaster//Event Calendar 2.0//EN
METHOD:PUBLISH
X-PUBLISHED-TTL:P3D
REFRESH-INTERVAL:P3D
CALSCALE:GREGORIAN
BEGIN:VEVENT
DTSTART:20150823T160000Z
DTEND:20150824T000000Z
X-MICROSOFT-CDO-ALLDAYEVENT:FALSE
SUMMARY:Open House & Barbeque at Urban Safari Rescue Society
DESCRIPTION:Join us for our annual Open House & Barbeque at Urban Safari Rescue Society. This all day family event includes a pancake breakfast in the morning\, a barbeque in the afternoon\, an art show by Semihamoo Arts\, Bee Beard demos by the HoneyBee Centre\, games for kids\, learn about the animals our rescue centre cares for\, silent auction\, farm animal petting zoo and much more.
X-ALT-DESC;FMTTYPE=text/html:Join us for our annual Open House &amp\; Barbeque at Urban Safari Rescue Society. This all day family event includes a pancake breakfast in the morning\, a barbeque in the afternoon\, an art show by Semihamoo Arts\, Bee Beard demos by the HoneyBee Centre\, games for kids\, learn about the animals our rescue centre cares for\, silent auction\, farm animal petting zoo and much more.
LOCATION:1395 176th St. Surrey BC
UID:e.749.3585
SEQUENCE:3
DTSTAMP:20260423T171412Z
URL:https://business.businessinsurrey.com/events/details/open-house-barbeque-at-urban-safari-rescue-society-08-23-2015-3585
END:VEVENT

END:VCALENDAR
