BEGIN:VCALENDAR
VERSION:2.0
PRODID:-//ChamberMaster//Event Calendar 2.0//EN
METHOD:PUBLISH
X-PUBLISHED-TTL:P3D
REFRESH-INTERVAL:P3D
CALSCALE:GREGORIAN
BEGIN:VEVENT
DTSTART:20150329T200000Z
DTEND:20150329T220000Z
X-MICROSOFT-CDO-ALLDAYEVENT:FALSE
SUMMARY:Open House at Chartwell Imperial Place Retirement Residence
DESCRIPTION:Open House at Chartwell Imperial Place Retirement Residence. Meet Mayor Linda Hepner and celebrate our community of Surrey Mingle with community providers who help make people?s lives better. Enjoy the musical stylings of Surrey's own crooner - Ron Boudreau. Coffee & cake compliments of Chef Alan. For information call Dale 778 - 735 - 0541
X-ALT-DESC;FMTTYPE=text/html:Open House at Chartwell Imperial Place Retirement Residence. Meet Mayor Linda Hepner and celebrate our community of Surrey Mingle with community providers who help make people?s lives better. Enjoy the musical stylings of Surrey&#39\;s own crooner - Ron Boudreau. Coffee &amp\; cake compliments of Chef Alan. For information call Dale 778 - 735 - 0541
LOCATION:Chartwell Imperial Place Retirement Residence 13853 - 102nd Avenue\, Surrey
UID:e.749.3325
SEQUENCE:3
DTSTAMP:20260423T091840Z
URL:https://business.businessinsurrey.com/events/details/open-house-at-chartwell-imperial-place-retirement-residence-03-29-2015-3325
END:VEVENT

END:VCALENDAR
