BEGIN:VCALENDAR
VERSION:2.0
PRODID:-//ChamberMaster//Event Calendar 2.0//EN
METHOD:PUBLISH
X-PUBLISHED-TTL:P3D
REFRESH-INTERVAL:P3D
CALSCALE:GREGORIAN
BEGIN:VEVENT
DTSTART:20151024T003000Z
DTEND:20151024T030000Z
X-MICROSOFT-CDO-ALLDAYEVENT:FALSE
SUMMARY:Oktoberfest Fundraising
DESCRIPTION:Oktoberfest Fundraiser\n\n\n\nEveryone is invited to Seniors Come Share Societies first Oktoberfest Oct 23\, 2015.\n\nGerman cuisine\, great entertainment and cold beer to enjoy.\n\n\n\nFunds raised will be used to assist with the printing of our  \n\nSeniors Resource Directory which helps seniors in our community \n\nconnect with the services and supports they need.\n\n\n\n See you there.
X-ALT-DESC;FMTTYPE=text/html:Oktoberfest Fundraiser<br />\n<br />\nEveryone is invited to Seniors Come Share Societies first Oktoberfest Oct 23\, 2015.<br />\nGerman cuisine\, great entertainment and cold beer to enjoy.<br />\n<br />\nFunds raised will be used to assist with the printing of our &nbsp\;<br />\nSeniors Resource Directory which helps seniors in our community&nbsp\;<br />\nconnect with the services and supports they need.<br />\n<br />\n&nbsp\;See you there.&nbsp\;<br />\n<br />\n&nbsp\;
LOCATION:15008 26th Avenue\, Surrey\, B.C. Parking available on street.
UID:e.749.3676
SEQUENCE:3
DTSTAMP:20260423T201559Z
URL:https://business.businessinsurrey.com/events/details/oktoberfest-fundraising-10-23-2015-3676
END:VEVENT

END:VCALENDAR
