BEGIN:VCALENDAR
VERSION:2.0
PRODID:-//ChamberMaster//Event Calendar 2.0//EN
METHOD:PUBLISH
X-PUBLISHED-TTL:P3D
REFRESH-INTERVAL:P3D
CALSCALE:GREGORIAN
BEGIN:VEVENT
DTSTART:20151009T010000Z
DTEND:20151009T043000Z
X-MICROSOFT-CDO-ALLDAYEVENT:FALSE
SUMMARY:October 8\, 2015 - Surrey Police Officer of the Year Awards
DESCRIPTION:Police Officer of the Year Awards\n\nThursday\, October 8\, 2015\n\n \nRecognition of the tremendous work of business and the Surrey RCMP Detachment\, through their exemplary service and commitment to making Surrey a safer place to live and do business in\, continues to be the premise of this event.\n\n\n\nKeynote Speaker: \n\nHeidi Cave\, Speaker and Author of Fancy Feet: Turning My Tragedy Into Hope\n\n \n\nIn 1998 Heidi Cave was an active young woman looking forward to all the possibilities life had to offer. That all changed when her car was struck by a reckless driver going more than 100km/hr (60 mph)\, which resulted in a fight for her life. \n\n \nPartial proceeds from the event support the RCMP Youth Academy.\n\n \n\nEach year we celebrate those involved in policing in Surrey with the Police Officer of the Year Awards. There are 8 awards in all\, highlighting Officers\, Volunteers and Businesses the help make our city safer.\n\nCategories include:\n\n\n	Police Officer of the Year as nominated by the members\, employees & volunteers at Surrey Detachment.\n	Police Officer of the Year\, as nominated by the community\n	Arnold Silzer Community Policing Initiative\n	Police and Business Partnership\n	Police Municipal and Civilian Employee of the Year\n	Police Volunteer of the Year\n	Auxiliary Constable of the Year\n	Police Team Award\n\n\n\nThe Surrey RCMP along with Surrey's Auxiliary officers\, civilian employees and volunteers will join members of Surrey's business community to celebrate those individuals who have been chosen by their peers and the public to receive the Police Officer of the Year Awards.
X-ALT-DESC;FMTTYPE=text/html:<span style="font-size:12px\;"><span style="font-family: arial\;"><span style="font-size:14px\;"><strong>Police Officer of the Year Awards</strong></span><br />\n<strong>Thursday\, October 8\, 2015</strong></span></span><br />\n&nbsp\;\n<div style="color: rgb(85\, 85\, 85)\; font-family: 'Lucida Sans Unicode'\, 'Lucida Grande'\, Tahoma\, sans-serif\; font-size: 12px\; font-style: normal\; font-variant: normal\; font-weight: normal\; letter-spacing: normal\; line-height: 21.6000003814697px\; orphans: auto\; text-align: start\; text-indent: 0px\; text-transform: none\; white-space: normal\; widows: auto\; word-spacing: 0px\; -webkit-text-stroke-width: 0px\; background-color: rgb(255\, 255\, 255)\;"><span style="font-size:12px\;"><span style="font-family: arial\;"><span style="color: rgb(34\, 34\, 34)\; font-style: normal\; font-variant: normal\; font-weight: normal\; letter-spacing: normal\; line-height: normal\; text-align: start\; text-indent: 0px\; text-transform: none\; white-space: normal\; word-spacing: 0px\; float: none\; display: inline ! important\; background-color: rgb(255\, 255\, 255)\;">Recognition of the tremendous work of business and the Surrey RCMP Detachment\, through their exemplary service and commitment to making Surrey a safer place to live and do business in\, continues to be the premise of this event.</span></span></span><br />\n<br />\n<strong><u><span style="font-family:arial\;"><span style="font-size:10.0pt\;">Keynote Speaker:</span></span></u></strong>&nbsp\;<br />\n<span style="background:white\;"><span style="color:#222222\;"><span style="font-family:arial\;"><span style="font-size:10.0pt\;">Heidi&nbsp\;Cave\, Speaker and Author of <em>Fancy Feet: Turning My Tragedy Into Hope</em></span></span></span></span><br />\n&nbsp\;<br />\n<span style="background:white\;"><span style="color:#444444\;"><span style="font-family:arial\;"><span style="font-size:10.0pt\;">In 1998&nbsp\;Heidi&nbsp\;Cave&nbsp\;was an active young woman looking forward to all the possibilities life had to offer. That all changed when her car was struck by a reckless driver going more than 100km/hr (60 mph)\, which resulted in a fight for her life. </span></span></span></span><br style="color: rgb(34\, 34\, 34)\; font-family: arial\, sans-serif\; font-size: 13px\; font-style: normal\; font-variant: normal\; font-weight: normal\; letter-spacing: normal\; line-height: normal\; orphans: auto\; text-align: start\; text-indent: 0px\; text-transform: none\; white-space: normal\; widows: auto\; word-spacing: 0px\; -webkit-text-stroke-width: 0px\; background-color: rgb(255\, 255\, 255)\;" />\n&nbsp\;\n<div><span style="font-size:12px\;"><span style="font-family: arial\;"><span style="color: rgb(34\, 34\, 34)\; font-style: normal\; font-variant: normal\; font-weight: normal\; letter-spacing: normal\; line-height: normal\; text-align: start\; text-indent: 0px\; text-transform: none\; white-space: normal\; word-spacing: 0px\; float: none\; display: inline ! important\; background-color: rgb(255\, 255\, 255)\;">Partial proceeds from the event support the RCMP Youth Academy</span>.</span></span></div>\n\n<div>&nbsp\;</div>\n\n<p style="margin-bottom: 1em\; margin-top: 0em\;"><span style="font-size:12px\;"><span style="font-family: arial\;">Each year we celebrate those involved in policing in Surrey with the Police Officer of the Year Awards. There are 8 awards in all\, highlighting Officers\, Volunteers and Businesses the help make our city safer.</span></span></p>\n\n<p style="margin-bottom: 1em\; margin-top: 0em\;"><span style="font-size:12px\;"><span style="font-family: arial\;">Categories include:</span></span></p>\n\n<ul style="list-style-type: square\; margin: 1em 0px\; padding: 0px 0px 0px 2em\;">\n	<li><span style="font-size:12px\;"><span style="font-family: arial\;">Police Officer of the Year as nominated by the members\, employees &amp\; volunteers at Surrey Detachment.</span></span></li>\n	<li><span style="font-size:12px\;"><span style="font-family: arial\;">Police Officer of the Year\, as nominated by the community</span></span></li>\n	<li><span style="font-size:12px\;"><span style="font-family: arial\;">Arnold Silzer Community Policing Initiative</span></span></li>\n	<li><span style="font-size:12px\;"><span style="font-family: arial\;">Police and Business Partnership</span></span></li>\n	<li><span style="font-size:12px\;"><span style="font-family: arial\;">Police Municipal and Civilian Employee of the Year</span></span></li>\n	<li><span style="font-size:12px\;"><span style="font-family: arial\;">Police Volunteer of the Year</span></span></li>\n	<li><span style="font-size:12px\;"><span style="font-family: arial\;">Auxiliary Constable of the Year</span></span></li>\n	<li><span style="font-size:12px\;"><span style="font-family: arial\;">Police Team Award</span></span></li>\n</ul>\n</div>\n\n<p style="margin-bottom: 1em\; margin-top: 0em\; color: rgb(85\, 85\, 85)\; font-family: 'Lucida Sans Unicode'\, 'Lucida Grande'\, Tahoma\, sans-serif\; font-size: 12px\; font-style: normal\; font-variant: normal\; font-weight: normal\; letter-spacing: normal\; line-height: 21.6000003814697px\; orphans: auto\; text-align: start\; text-indent: 0px\; text-transform: none\; white-space: normal\; widows: auto\; word-spacing: 0px\; -webkit-text-stroke-width: 0px\; background-color: rgb(255\, 255\, 255)\;"><span style="font-size:12px\;"><span style="font-family: arial\;">The Surrey RCMP along with Surrey&rsquo\;s Auxiliary officers\, civilian employees and volunteers will join members of Surrey&rsquo\;s business community to celebrate those individuals who have been chosen by their peers and the public to receive the Police Officer of the Year Awards.&nbsp\; </span></span></p>\n<span style="font-size:12px\;"><span style="font-family: arial\;"> </span></span>
LOCATION:Sheraton Vancouver Guildford Hotel 15269 104th Ave Surrey\, BC
UID:e.749.2845
SEQUENCE:3
DTSTAMP:20260423T201346Z
URL:https://business.businessinsurrey.com/events/details/october-8-2015-surrey-police-officer-of-the-year-awards-10-08-2015-2845
END:VEVENT

END:VCALENDAR
