BEGIN:VCALENDAR
VERSION:2.0
PRODID:-//ChamberMaster//Event Calendar 2.0//EN
METHOD:PUBLISH
X-PUBLISHED-TTL:P3D
REFRESH-INTERVAL:P3D
CALSCALE:GREGORIAN
BEGIN:VEVENT
DTSTART:20101008T010000Z
DTEND:20101008T030000Z
X-MICROSOFT-CDO-ALLDAYEVENT:FALSE
SUMMARY:October 7\, 2010 - Surrey Arts Centre/Surrey Civic Treasures Reception
DESCRIPTION:Meet the Surrey Mayor and Council at the special Business to Business & the Arts Networking Reception!\n\n	You are invited to meet Mayor and Council\, make new contacts and honour the recipient of the 2010 Surrey Civic Treasures Award.  Lively entertainment\, delicious food and great company make this popular event a big hit every year!\n\n	 \n\n	Over 300 people attend each year! \n\n	 \n\n	Hosted by the Surrey Arts Centre
X-ALT-DESC;FMTTYPE=text/html:<h4>\n	Meet the Surrey Mayor and Council at the special Business to Business &amp\;&nbsp\;the Arts Networking Reception!</h4>\n<div>\n	You are invited to meet Mayor and Council\, make new contacts and honour the recipient of the 2010 Surrey&nbsp\;Civic Treasures Award.&nbsp\; Lively entertainment\,&nbsp\;delicious food and great company&nbsp\;make this popular event&nbsp\;a big hit every year!</div>\n<div>\n	&nbsp\;</div>\n<div>\n	Over 300 people attend&nbsp\;each year!&nbsp\;</div>\n<div>\n	&nbsp\;</div>\n<div>\n	Hosted by the Surrey Arts Centre</div>\n
LOCATION:Surrey Arts Centre13750 88 Avenue\, Surrey
UID:e.749.1644
SEQUENCE:3
DTSTAMP:20260422T104417Z
URL:https://business.businessinsurrey.com/events/details/october-7-2010-surrey-arts-centre-surrey-civic-treasures-reception-10-07-2010-1644
END:VEVENT

END:VCALENDAR
