BEGIN:VCALENDAR
VERSION:2.0
PRODID:-//ChamberMaster//Event Calendar 2.0//EN
METHOD:PUBLISH
X-PUBLISHED-TTL:P3D
REFRESH-INTERVAL:P3D
CALSCALE:GREGORIAN
BEGIN:VEVENT
DTSTART:20161007T010000Z
DTEND:20161007T043000Z
X-MICROSOFT-CDO-ALLDAYEVENT:FALSE
SUMMARY:October 6\, 2016 - 20th Annual Surrey Police Officer of the Year Awards
DESCRIPTION:Join us for the 20th Anniversary event on Thursday\, October 6\, 2016! \n\nCelebrate the achievements of the Surrey RCMP and their partners with dinner\, awards presentations and musical entertainment.\n\n\n\nA donation from the event is made to the Surrey RCMP Youth Academy.
X-ALT-DESC;FMTTYPE=text/html:<span style="font-size:20px\;"><strong>Join us for the 20th Anniversary event on Thursday\, October 6\, 2016!</strong> </span><br />\nCelebrate the achievements of the Surrey RCMP and their partners with dinner\, awards presentations and musical entertainment.<br />\n<br />\n<em>A donation from the event is made to the Surrey RCMP Youth Academy.</em><br />\n&nbsp\;
LOCATION:Sheraton Vancouver Guildford Hotel 15269 104 Avenue\, Surrey
UID:e.749.3749
SEQUENCE:3
DTSTAMP:20260424T035947Z
URL:https://business.businessinsurrey.com/events/details/october-6-2016-20th-annual-surrey-police-officer-of-the-year-awards-10-06-2016-3749
END:VEVENT

END:VCALENDAR
