BEGIN:VCALENDAR
VERSION:2.0
PRODID:-//ChamberMaster//Event Calendar 2.0//EN
METHOD:PUBLISH
X-PUBLISHED-TTL:P3D
REFRESH-INTERVAL:P3D
CALSCALE:GREGORIAN
BEGIN:VEVENT
DTSTART:20151007T003000Z
DTEND:20151007T030000Z
X-MICROSOFT-CDO-ALLDAYEVENT:FALSE
SUMMARY:October 6\, 2015 - Business & the Arts/Surrey Civic Treasure Awards
DESCRIPTION:12th Annual Business & the Arts Networking Reception\n\nHosted by the Surrey Arts Centre!\n\n \n\n          Meet Surrey City Council\n\n          Enjoy a fast-paced evening of networking\, entertainment\, great food and prizes\n\n          Honour Surrey's new Civic Treasures\n\n          Meet some talented youth musicians\n\n          Make new business contacts\n\n \n\nFree Admission
X-ALT-DESC;FMTTYPE=text/html:12<sup>th</sup> Annual Business &amp\; the Arts Networking Reception<br />\nHosted by the Surrey Arts Centre!<br />\n&nbsp\;<br />\n<span style="font-family:symbol\;">&middot\;&nbsp\;&nbsp\;&nbsp\;&nbsp\;&nbsp\;&nbsp\;&nbsp\;&nbsp\; </span>Meet Surrey City Council<br />\n<span style="font-family:symbol\;">&middot\;&nbsp\;&nbsp\;&nbsp\;&nbsp\;&nbsp\;&nbsp\;&nbsp\;&nbsp\; </span>Enjoy a fast-paced evening of networking\, entertainment\, great food and prizes<br />\n<span style="font-family:symbol\;">&middot\;&nbsp\;&nbsp\;&nbsp\;&nbsp\;&nbsp\;&nbsp\;&nbsp\;&nbsp\; </span>Honour Surrey&rsquo\;s new Civic Treasures<br />\n<span style="font-family:symbol\;">&middot\;&nbsp\;&nbsp\;&nbsp\;&nbsp\;&nbsp\;&nbsp\;&nbsp\;&nbsp\; </span>Meet some talented youth musicians<br />\n<span style="font-family:symbol\;">&middot\;&nbsp\;&nbsp\;&nbsp\;&nbsp\;&nbsp\;&nbsp\;&nbsp\;&nbsp\; </span>Make new business contacts<br />\n&nbsp\;<br />\nFree Admission
LOCATION:Surrey Arts Centre 13750 88 Avenue\, Surrey
UID:e.749.3301
SEQUENCE:3
DTSTAMP:20260423T201223Z
URL:https://business.businessinsurrey.com/events/details/october-6-2015-business-the-arts-surrey-civic-treasure-awards-10-06-2015-3301
END:VEVENT

END:VCALENDAR
