BEGIN:VCALENDAR
VERSION:2.0
PRODID:-//ChamberMaster//Event Calendar 2.0//EN
METHOD:PUBLISH
X-PUBLISHED-TTL:P3D
REFRESH-INTERVAL:P3D
CALSCALE:GREGORIAN
BEGIN:VEVENT
DTSTART:20161005T003000Z
DTEND:20161005T030000Z
X-MICROSOFT-CDO-ALLDAYEVENT:FALSE
SUMMARY:October 4\, 2016 - Business and the Arts Reception
DESCRIPTION:Attend the 13th Annual Business and the Arts Reception!\n\n\n	Meet Surrey City Council\n	Enjoy an energetic evening of networking\, entertainment\, food and prizes\n	Applaud Surrey's new Civic Treasures\n	Enjoy music from Elizabeth and Marcel Bergmann\, and Sami Ghawi\n	Make new business contacts
X-ALT-DESC;FMTTYPE=text/html:<span style="font-size:22px\;"><span style="font-family: arial\;"><strong>Attend the 13th Annual Business and the Arts Reception!</strong></span></span>\n\n<ul>\n	<li>Meet Surrey City Council</li>\n	<li>Enjoy an energetic evening of networking\, entertainment\, food and prizes</li>\n	<li>Applaud Surrey&rsquo\;s new Civic Treasures</li>\n	<li>Enjoy music from Elizabeth and Marcel Bergmann\, and Sami Ghawi</li>\n	<li>Make new business contacts</li>\n</ul>\n
LOCATION:Surrey Arts Centre 13750 88 Avenue\, Surrey
UID:e.749.4862
SEQUENCE:3
DTSTAMP:20260424T040110Z
URL:https://business.businessinsurrey.com/events/details/october-4-2016-business-and-the-arts-reception-10-04-2016-4862
END:VEVENT

END:VCALENDAR
