BEGIN:VCALENDAR
VERSION:2.0
PRODID:-//ChamberMaster//Event Calendar 2.0//EN
METHOD:PUBLISH
X-PUBLISHED-TTL:P3D
REFRESH-INTERVAL:P3D
CALSCALE:GREGORIAN
BEGIN:VEVENT
DTSTART;VALUE=DATE:20091028
DTEND;VALUE=DATE:20091029
TRANSP:TRANSPARENT
X-MICROSOFT-CDO-ALLDAYEVENT:TRUE
SUMMARY:October 28\, '09 - City Procurement Workshop
DESCRIPTION:
X-ALT-DESC;FMTTYPE=text/html:
LOCATION:
UID:e.749.1548
SEQUENCE:3
DTSTAMP:20260423T090553Z
URL:https://business.businessinsurrey.com/events/details/october-28-09-city-procurement-workshop-10-28-2009-1548
END:VEVENT

END:VCALENDAR
