BEGIN:VCALENDAR
VERSION:2.0
PRODID:-//ChamberMaster//Event Calendar 2.0//EN
METHOD:PUBLISH
X-PUBLISHED-TTL:P3D
REFRESH-INTERVAL:P3D
CALSCALE:GREGORIAN
BEGIN:VEVENT
DTSTART:20151027T143000Z
DTEND:20151027T170000Z
X-MICROSOFT-CDO-ALLDAYEVENT:FALSE
SUMMARY:October 27\, 2015 - Health Care and Business Dialogue - Community Wellness
DESCRIPTION:You are invited!\n\nLeadership Surrey Dialogue Series\n\nHealth Care and Business Dialogues\n\n\n\nThe fourth dialogue draws from the previous three to discuss the role of businesses and community members to coordinate the dissemination of information\, to highlight existing programs\, to determine what additional programs are needed\, and to foster an attitude of health empowerment through community and workplace education and wellness training. \n\n\n\nJoin speakers\n \n\n\n	Michael Marchbank\, CEO of Fraser Health Authority\n	Mary Martin\, City of Surrey Councillor and Chair of Community Health Programs Committee\n	Paola Ardiles\, Lecturer and Adjunct Professor\, Faculty of Health Sciences SFU\, Manager of Bridges to Surrey-Health Innovation Project\n\n\n \nfor breakfast and a dialogue on opportunities as we figure out how we can all do better.
X-ALT-DESC;FMTTYPE=text/html:<span style="font-family:arial\;">You are invited!<br />\n<span style="font-size: 16px\;"><strong>Leadership Surrey Dialogue Series</strong></span><br />\n<span style="font-size: 14px\;"><em>Health Care and Business Dialogues</em></span><br />\n<br />\n<span style="font-size: 12px\;">The fourth dialogue draws from the previous three to discuss the role of businesses and community members to coordinate the dissemination of information\, to highlight existing programs\, to determine what additional programs are needed\, and to foster an attitude of health empowerment through community and workplace education and wellness training. </span></span><br />\n<br />\nJoin speakers\n<div style="margin-left:40px\;">&nbsp\;</div>\n\n<ul>\n	<li><strong>Michael Marchbank</strong>\, CEO of Fraser Health Authority</li>\n	<li><strong>Mary Martin</strong>\, City of Surrey Councillor and Chair of Community Health Programs Committee</li>\n	<li><strong>Paola Ardiles</strong>\, Lecturer and Adjunct Professor\, Faculty of Health Sciences SFU\, Manager of Bridges to Surrey-Health Innovation Project</li>\n</ul>\n\n<div style="margin-left:40px\;">&nbsp\;</div>\nfor breakfast and a dialogue on opportunities as we figure out how we can all do better.
LOCATION:Guildford Golf Course 7929 152 Street Surrey\, BC
UID:e.749.3573
SEQUENCE:3
DTSTAMP:20260423T201256Z
URL:https://business.businessinsurrey.com/events/details/october-27-2015-health-care-and-business-dialogue-community-wellness-10-27-2015-3573
END:VEVENT

END:VCALENDAR
