BEGIN:VCALENDAR
VERSION:2.0
PRODID:-//ChamberMaster//Event Calendar 2.0//EN
METHOD:PUBLISH
X-PUBLISHED-TTL:P3D
REFRESH-INTERVAL:P3D
CALSCALE:GREGORIAN
BEGIN:VEVENT
DTSTART:20151023T183000Z
DTEND:20151023T203000Z
X-MICROSOFT-CDO-ALLDAYEVENT:FALSE
SUMMARY:October 23\, 2015 - Small Business Week ® Lunch\, Featuring Minister Coralee Oakes
DESCRIPTION:The Surrey Board of Trade and New Westminster Chamber of Commerce are proud to present in collaboration Small Business Month Luncheon!\n\n\n\nSmall Business Week 2015\, which runs October 19-23\, pays tribute to the contributions that small business makes to the Canadian economy.  Both the Surrey Board of Trade and the New Westminster Chamber of Commerce are celebrating Small Business Month and have joined forces to welcome Minister Cora Lee Oaks.\n\n\n\nMinister Oaks will speak to the following for small business:\n\n	New Program\n	Policies & Regulations\n	Issues & Opportunities
X-ALT-DESC;FMTTYPE=text/html:The Surrey Board of Trade and New Westminster Chamber of Commerce are proud to present in collaboration Small Business Month Luncheon!<br />\n<br />\nSmall Business Week 2015\, which runs October 19-23\, pays tribute to the contributions that small business makes to the Canadian economy.&nbsp\; Both the Surrey Board of Trade and the New Westminster Chamber of Commerce are celebrating Small Business Month and have joined forces to welcome Minister Cora Lee Oaks.<br />\n<br />\nMinister Oaks will speak to the following for small business:\n<ul>\n	<li>New Program</li>\n	<li>Policies &amp\; Regulations</li>\n	<li>Issues &amp\; Opportunities</li>\n</ul>\n
LOCATION:Eaglequest Golf Course 7778 152 Street Surrey\, BC
UID:e.749.3654
SEQUENCE:3
DTSTAMP:20260423T201153Z
URL:https://business.businessinsurrey.com/events/details/october-23-2015-small-business-week-lunch-featuring-minister-coralee-oakes-10-23-2015-3654
END:VEVENT

END:VCALENDAR
