BEGIN:VCALENDAR
VERSION:2.0
PRODID:-//ChamberMaster//Event Calendar 2.0//EN
METHOD:PUBLISH
X-PUBLISHED-TTL:P3D
REFRESH-INTERVAL:P3D
CALSCALE:GREGORIAN
BEGIN:VEVENT
DTSTART:20161021T143000Z
DTEND:20161021T163000Z
X-MICROSOFT-CDO-ALLDAYEVENT:FALSE
SUMMARY:October 21\, 2016 - Disaster Recovery Planning for Business
DESCRIPTION:Businesses know (or should know) how to prepare for an emergency: an emergency kit\, exit strategies\, phone lists and more. But what about after those critical 72 hours? Will your business be ready to open doors\, pay employees\, and serve customers? Will you be able to access your data\, get emergency stop gap funding? Will your business survive? If you are in any doubt\, then come learn from a panel of experts and truly be prepared.\n\n\n\n\n\nSpeakers:\n\n\n\nThe Honourable Naomi Yamamoto\, Minister of State for Emergency Preparedness\n\nMike Franklin\, Lions Gate Risk Management Group\n\nDan Barnscher\, Deputy Fire Chief\, Surrey Fire Services\n\nAndrea Thomsen\, Schill Insurance Brokers Ltd\n\nRod Tulett\, Metro Vancouver
X-ALT-DESC;FMTTYPE=text/html:Businesses know (or should know) how to prepare for an emergency: an emergency kit\, exit strategies\, phone lists and more. But what about after those critical 72 hours? Will your business be ready to open doors\, pay employees\, and serve customers? Will you be able to access your data\, get emergency stop gap funding? Will your business survive? If you are in any doubt\, then come learn from a panel of experts and truly be prepared.<br />\n<br />\n<br />\n<strong>Speakers:</strong><br />\n<br />\nThe Honourable Naomi Yamamoto\, Minister of State for Emergency Preparedness<br />\nMike Franklin\, Lions Gate Risk Management Group<br />\nDan Barnscher\, Deputy Fire Chief\, Surrey Fire Services<br />\nAndrea Thomsen\, Schill Insurance Brokers Ltd<br />\nRod Tulett\, Metro Vancouver
LOCATION:Guildford Golf Course (7929 152 Street\, Surrey)
UID:e.749.4799
SEQUENCE:3
DTSTAMP:20260424T035732Z
URL:https://business.businessinsurrey.com/events/details/october-21-2016-disaster-recovery-planning-for-business-10-21-2016-4799
END:VEVENT

END:VCALENDAR
