BEGIN:VCALENDAR
VERSION:2.0
PRODID:-//ChamberMaster//Event Calendar 2.0//EN
METHOD:PUBLISH
X-PUBLISHED-TTL:P3D
REFRESH-INTERVAL:P3D
CALSCALE:GREGORIAN
BEGIN:VEVENT
DTSTART:20101019T190000Z
DTEND:20101019T203000Z
X-MICROSOFT-CDO-ALLDAYEVENT:FALSE
SUMMARY:October 19\, 2010 - Small Business Luncheon
DESCRIPTION:Small Business Lunch with Minister of Labour\, the Honourable Murray Coell. Sponsored by WorkSafeBC
X-ALT-DESC;FMTTYPE=text/html:<div>Small&nbsp\;Business Lunch with Minister of Labour\, the Honourable Murray Coell.</div><div>&nbsp\;</div><div>Sponsored by WorkSafeBC</div>
LOCATION:Eaglequest Golf Course (7778 152 Street\, Surrey)
UID:e.749.1609
SEQUENCE:3
DTSTAMP:20260422T104139Z
URL:https://business.businessinsurrey.com/events/details/october-19-2010-small-business-luncheon-10-19-2010-1609
END:VEVENT

END:VCALENDAR
