BEGIN:VCALENDAR
VERSION:2.0
PRODID:-//ChamberMaster//Event Calendar 2.0//EN
METHOD:PUBLISH
X-PUBLISHED-TTL:P3D
REFRESH-INTERVAL:P3D
CALSCALE:GREGORIAN
BEGIN:VEVENT
DTSTART:20151002T010000Z
DTEND:20151002T030000Z
X-MICROSOFT-CDO-ALLDAYEVENT:FALSE
SUMMARY:October 1\, 2015 - Manufacturing Industry Reception
DESCRIPTION:In advance of the International Manufacturing and Steel Day\, the Surrey Board of Trade invites you to network with local manufacturers\, government officials\, education and business representatives.\n\n\n\n"At the Surrey Board of Trade it is our responsibility to showcase and support Surrey business industries and their economic impact. We are committed to do just that."\n\n    - Anita Huberman\, CEO\, Surrey Board of Trade\n\n\n\nJoin us as we showcase Surrey manufacturers\, and learn more about the industry that has the largest economic footprint on this province.
X-ALT-DESC;FMTTYPE=text/html:In advance of the International Manufacturing and Steel Day\, the Surrey Board of Trade invites you to network with local manufacturers\, government officials\, education and business representatives.<br />\n<br />\n&ldquo\;At the Surrey Board of Trade it is our responsibility to showcase and support Surrey business industries and their economic impact. We are committed to do just that.&rdquo\;<br />\n&nbsp\;&nbsp\; &nbsp\;- Anita Huberman\, CEO\, Surrey Board of Trade<br />\n<br />\nJoin us as we showcase Surrey manufacturers\, and learn more about the industry that has the largest economic footprint on this province.
LOCATION:Eaglequest Golf Course 7778 152 Street\, Surrey\, BC
UID:e.749.3644
SEQUENCE:3
DTSTAMP:20260423T200655Z
URL:https://business.businessinsurrey.com/events/details/october-1-2015-manufacturing-industry-reception-10-01-2015-3644
END:VEVENT

END:VCALENDAR
