BEGIN:VCALENDAR
VERSION:2.0
PRODID:-//ChamberMaster//Event Calendar 2.0//EN
METHOD:PUBLISH
X-PUBLISHED-TTL:P3D
REFRESH-INTERVAL:P3D
CALSCALE:GREGORIAN
BEGIN:VEVENT
DTSTART:20101110T013000Z
DTEND:20101110T033000Z
X-MICROSOFT-CDO-ALLDAYEVENT:FALSE
SUMMARY:November 9\, 2010 - Business to Business Reception at Kinsmen Place Lodge
DESCRIPTION:Business to Business Networking Reception at Kinsmen Place Lodge.
X-ALT-DESC;FMTTYPE=text/html:Business to Business Networking Reception at Kinsmen Place Lodge.
LOCATION:Kinsmen Place Lodge13333 Old Yale Road
UID:e.749.1663
SEQUENCE:3
DTSTAMP:20260422T091554Z
URL:https://business.businessinsurrey.com/events/details/november-9-2010-business-to-business-reception-at-kinsmen-place-lodge-11-09-2010-1663
END:VEVENT

END:VCALENDAR
