BEGIN:VCALENDAR
VERSION:2.0
PRODID:-//ChamberMaster//Event Calendar 2.0//EN
METHOD:PUBLISH
X-PUBLISHED-TTL:P3D
REFRESH-INTERVAL:P3D
CALSCALE:GREGORIAN
BEGIN:VEVENT
DTSTART:20151106T193000Z
DTEND:20151106T213000Z
X-MICROSOFT-CDO-ALLDAYEVENT:FALSE
SUMMARY:November 6\, 2015 - SFU's Innovation Strategy Lunch
DESCRIPTION:SFU has just launched a new Innovation Strategy designed\n\nto advance the University's national leadership in fostering\n\nentrepreneurship and supporting economic and social\n\ndevelopment. The strategy rejects traditional university\n\napproaches\, substituting an 'open innovation' model that\n\nencourages collaboration and pulls research ideas to the\n\nmarketplace. SFU President Andrew Petter will describe the new\n\nstrategy and discuss the ways it will help Surrey businesses to\n\ngrow and create jobs\, even as it assists civil society to improve\n\nhealth outcomes and address other pressing social needs.\n\n\n\nA question and answer period will be included in the program.
X-ALT-DESC;FMTTYPE=text/html:SFU has just launched a new Innovation Strategy designed<br />\nto advance the University&#39\;s national leadership in fostering<br />\nentrepreneurship and supporting economic and social<br />\ndevelopment. The strategy rejects traditional university<br />\napproaches\, substituting an &#39\;open innovation&#39\; model that<br />\nencourages collaboration and pulls research ideas to the<br />\nmarketplace. SFU President Andrew Petter will describe the new<br />\nstrategy and discuss the ways it will help Surrey businesses to<br />\ngrow and create jobs\, even as it assists civil society to improve<br />\nhealth outcomes and address other pressing social needs.<br />\n<br />\nA question and answer period will be included in the program.
LOCATION:Sheraton Vancouver Guildford (15269 104 Avenue\, Surrey)
UID:e.749.3678
SEQUENCE:3
DTSTAMP:20260423T214734Z
URL:https://business.businessinsurrey.com/events/details/november-6-2015-sfu-s-innovation-strategy-lunch-11-06-2015-3678
END:VEVENT

END:VCALENDAR
