BEGIN:VCALENDAR
VERSION:2.0
PRODID:-//ChamberMaster//Event Calendar 2.0//EN
METHOD:PUBLISH
X-PUBLISHED-TTL:P3D
REFRESH-INTERVAL:P3D
CALSCALE:GREGORIAN
BEGIN:VEVENT
DTSTART:20101105T010000Z
DTEND:20101105T050000Z
X-MICROSOFT-CDO-ALLDAYEVENT:FALSE
SUMMARY:November 4\, 2010 - Business Excellence Awards
DESCRIPTION:Join us for the Surrey Board of Trade's \n12th Annual Surrey Business Excellence Awards Dinner The Awards ceremony celebrates business excellence in Surrey in the following categories: \n* Business Excellence Award 1-5 employees \n* Business Excellence Award 6-20 employees \n* Business Excellence Award 21 + employees \n* Not for Profit/Association of the Year (Budget under $500\,000) \n* Not for Profit/Association of the Year (Budget over $500\,000) \n* New Business of the Year * Student Entrepreneur of the Year \n* Business Person of the Year \n\nThis event attracts over 400 prominent businesses\, as well as young entrepreneurs of tomorrow. \n\nPresenting Sponors: Kwantlen Polytechnic University\; TD Canada TrustAssociate Sponsor: City of Surrey \nVIP Sponsor: BDC \nMedia Sponsor: The Leader NewspaperFormal Dress Required
X-ALT-DESC;FMTTYPE=text/html:<div><p align="center"><strong>Join us for the Surrey Board of Trade&rsquo\;s <br />12th Annual Surrey Business Excellence Awards Dinner </strong></p><p>The Awards ceremony celebrates business excellence in Surrey in the following categories: <br />* Business Excellence Award 1-5 employees <br />* Business Excellence Award 6-20 employees <br />* Business Excellence Award 21 + employees <br />* Not for Profit/Association of the Year (Budget under $500\,000) <br />* Not for Profit/Association of the Year (Budget over $500\,000) <br />* New Business of the Year * Student Entrepreneur of the Year <br />* Business Person of the Year <br /><br />This event attracts over 400 prominent businesses\, as well as young entrepreneurs of tomorrow. <br /><br /><strong>Presenting Sponors:</strong> Kwantlen Polytechnic University\; TD Canada Trust</p><p><strong>Associate Sponsor:</strong> City of Surrey <br /><strong>VIP Sponsor:</strong> BDC <br /><strong>Media Sponsor:</strong> The Leader Newspaper</p><p>Formal Dress Required</p></div>
LOCATION:Sheraton Vancouver Guildford Hotel (15269 104th Ave\, Surrey)
UID:e.749.1587
SEQUENCE:3
DTSTAMP:20260422T091307Z
URL:https://business.businessinsurrey.com/events/details/november-4-2010-business-excellence-awards-11-04-2010-1587
END:VEVENT

END:VCALENDAR
