BEGIN:VCALENDAR
VERSION:2.0
PRODID:-//ChamberMaster//Event Calendar 2.0//EN
METHOD:PUBLISH
X-PUBLISHED-TTL:P3D
REFRESH-INTERVAL:P3D
CALSCALE:GREGORIAN
BEGIN:VEVENT
DTSTART:20101130T153000Z
DTEND:20101201T003000Z
X-MICROSOFT-CDO-ALLDAYEVENT:FALSE
SUMMARY:November 30\, 2010 - The Disney Approach to Quality Service Program
DESCRIPTION:For the first time in Surrey\, on November 30th\, 2010\, participating businesses will experience the Disney Approach to Quality Service Program. Get an insider's look at the "business behind the magic" from the world-renowned Disney Institute. Professional facilitators will share the results of over half a century's experience in exceeding customer expectations in the face of competition\, growth and the public's ever-changing tastes and attitudes. Through this Disney Institute program\, we will show you the importance of attention to detail and how they train Disney employees to treat their customers as VIP's. This will be your economic edge in today's business climate!\n\n\n\nYou will also learn how to anticipate the needs\, wants and emotions of your customers in order to exceed their service expectations\; bring "consistency" to your organization by establishing quality standards\; design a delivery system that focuses on the employees\, environment and processes that enhance quality service\; and create a service plan that integrates quality standards and delivery standards that focus on exceeding expectations.\n\nSome of the industries that have benefited from this program include:\n\n\n\n    Hospitals/Healthcare Providers\n\n    Manufacturers\n\n    Automotive Sales/Service Locations\n\n    Retail Outlets\n\n    Restaurant/Food-Service Companies\n\n    Financial Institutions\n\n    Military/National Guard Management Personnel\n\n    Utilities Companies\n\n    Insurance Companies\n\n    Real Estate Development/Management Companies\n\n    Government Organizations
X-ALT-DESC;FMTTYPE=text/html:<span style="font-family: verdana"><span style="font-size: 10pt"><span style="font-family: verdana\, sans-serif">For the first time in Surrey\, on November 30<sup>th</sup>\, 2010\, participating businesses will experience <strong><u>the Disney Approach to Quality Service Program. </u></strong>Get an insider&#39\;s look at the &quot\;business behind the magic&quot\; from the world-renowned <em>Disney Institute.</em> Professional facilitators will share the results of over half a century&#39\;s experience in exceeding customer expectations in the face of competition\, growth and the public&#39\;s ever-changing tastes and attitudes. Through this <em>Disney Institute</em> program\, we will show you the importance of attention to detail and how they train Disney employees to treat their customers as VIP&#39\;s. This will be your economic edge in today&rsquo\;s business climate!</span></span></span><br />\n<br />\n<span style="font-size: 10pt"><span style="font-family: verdana\, sans-serif">You will also learn how to anticipate the needs\, wants and emotions of your customers in order to exceed their service expectations\; bring &quot\;consistency&quot\; to your organization by establishing quality standards\; design a delivery system that focuses on the employees\, environment and processes that enhance quality service\; and create a service plan that integrates quality standards and delivery standards that focus on exceeding expectations.</span></span><br />\n<span style="font-size: 10pt"><span style="font-family: verdana\, sans-serif">Some of the industries that have benefited from this program include:</span></span><br />\n<br />\n<span style="font-size: 10pt"><span style="font-family: verdana\, sans-serif">&middot\;&nbsp\;&nbsp\; Hospitals/Healthcare Providers</span></span><br />\n<span style="font-size: 10pt"><span style="font-family: verdana\, sans-serif">&middot\;&nbsp\;&nbsp\; Manufacturers</span></span><br />\n<span style="font-size: 10pt"><span style="font-family: verdana\, sans-serif">&middot\;&nbsp\;&nbsp\; Automotive Sales/Service Locations</span></span><br />\n<span style="font-size: 10pt"><span style="font-family: verdana\, sans-serif">&middot\;&nbsp\;&nbsp\; Retail Outlets</span></span><br />\n<span style="font-size: 10pt"><span style="font-family: verdana\, sans-serif">&middot\;&nbsp\;&nbsp\; Restaurant/Food-Service Companies</span></span><br />\n<span style="font-size: 10pt"><span style="font-family: verdana\, sans-serif">&middot\;&nbsp\;&nbsp\; Financial Institutions</span></span><br />\n<span style="font-size: 10pt"><span style="font-family: verdana\, sans-serif">&middot\;&nbsp\;&nbsp\; Military/National Guard Management Personnel</span></span><br />\n<span style="font-size: 10pt"><span style="font-family: verdana\, sans-serif">&middot\;&nbsp\;&nbsp\; Utilities Companies</span></span><br />\n<span style="font-size: 10pt"><span style="font-family: verdana\, sans-serif">&middot\;&nbsp\;&nbsp\; Insurance Companies</span></span><br />\n<span style="font-size: 10pt"><span style="font-family: verdana\, sans-serif">&middot\;&nbsp\;&nbsp\; Real Estate Development/Management Companies</span></span><br />\n<span style="font-size: 10pt"><span style="font-family: verdana\, sans-serif">&middot\;&nbsp\;&nbsp\; Government Organizations </span></span><br />\n
LOCATION:Pacific Inn Resort Hotel & Conference Center 1160 King George Highway Surrey\, BC V4A 4Z2
UID:e.749.1693
SEQUENCE:3
DTSTAMP:20260422T104156Z
URL:https://business.businessinsurrey.com/events/details/november-30-2010-the-disney-approach-to-quality-service-program-11-30-2010-1693
END:VEVENT

END:VCALENDAR
