BEGIN:VCALENDAR
VERSION:2.0
PRODID:-//ChamberMaster//Event Calendar 2.0//EN
METHOD:PUBLISH
X-PUBLISHED-TTL:P3D
REFRESH-INTERVAL:P3D
CALSCALE:GREGORIAN
BEGIN:VEVENT
DTSTART;VALUE=DATE:20091127
DTEND;VALUE=DATE:20091128
TRANSP:TRANSPARENT
X-MICROSOFT-CDO-ALLDAYEVENT:TRUE
SUMMARY:November 27\, '09 - HST Seminar
DESCRIPTION:
X-ALT-DESC;FMTTYPE=text/html:
LOCATION:
UID:e.749.1555
SEQUENCE:3
DTSTAMP:20260423T054954Z
URL:https://business.businessinsurrey.com/events/details/november-27-09-hst-seminar-11-27-2009-1555
END:VEVENT

END:VCALENDAR
