BEGIN:VCALENDAR
VERSION:2.0
PRODID:-//ChamberMaster//Event Calendar 2.0//EN
METHOD:PUBLISH
X-PUBLISHED-TTL:P3D
REFRESH-INTERVAL:P3D
CALSCALE:GREGORIAN
BEGIN:VEVENT
DTSTART:20151125T160000Z
DTEND:20151125T180000Z
X-MICROSOFT-CDO-ALLDAYEVENT:FALSE
SUMMARY:November 25\, 2015 - Strategic Planning for Your Business Workshop
DESCRIPTION:Does your business have an effective strategic plan in place? Attend the SBOT Strategic Planning for Your Business Workshop on November 25th! This workshop is designed to teach participants how to create a strategic plan that will guide you and your business to greater success!\n\n\n\nIn this session\, you will learn to:\n\n	Articulate a compelling reason for why your business exists\n	Identify core values that guide you as you deliver on your business promise \n	Determine a list of strengths\, weaknesses\, opportunities and threats that impact your business\n	Identify and analyze systems and processes at work in your business and set measures for their effectiveness\n	Determine your top priorities with required actions to move your business toward your planned performance goals\n\n This workshop is facilitated by Tim McKinnon of Stride Business Coaching.
X-ALT-DESC;FMTTYPE=text/html:Does your business have an effective strategic plan in place? Attend the <b>SBOT Strategic Planning for Your Business Workshop on <span><span><span class="aBn" data-term="goog_1713966568" tabindex="0"><span class="aQJ">November 25th</span></span></span></span></b>! This workshop is designed to teach participants how to create a strategic plan that will guide you and your business to greater success!<br />\n<br />\nIn this session\, you will learn to:\n<ul>\n	<li>Articulate a compelling reason for why your business exists</li>\n	<li>Identify core values that guide you as you deliver on your business promise&nbsp\;</li>\n	<li>Determine a list of strengths\, weaknesses\, opportunities and threats that impact your business</li>\n	<li>Identify and analyze systems and processes at work in your business and set measures for their effectiveness</li>\n	<li>Determine your top priorities with required actions to move your business toward your planned performance goals</li>\n</ul>\n&nbsp\;This workshop is facilitated by Tim McKinnon of Stride Business Coaching.
LOCATION:Surrey Board of Trade Conference Room (101 - 14439 104 Avenue)
UID:e.749.3711
SEQUENCE:3
DTSTAMP:20260423T215031Z
URL:https://business.businessinsurrey.com/events/details/november-25-2015-strategic-planning-for-your-business-workshop-11-25-2015-3711
END:VEVENT

END:VCALENDAR
