BEGIN:VCALENDAR
VERSION:2.0
PRODID:-//ChamberMaster//Event Calendar 2.0//EN
METHOD:PUBLISH
X-PUBLISHED-TTL:P3D
REFRESH-INTERVAL:P3D
CALSCALE:GREGORIAN
BEGIN:VEVENT
DTSTART:20101124T160000Z
DTEND:20101124T180000Z
X-MICROSOFT-CDO-ALLDAYEVENT:FALSE
SUMMARY:November 24\, 2010 - HR Strategies for Business
DESCRIPTION:This workshop will provide you with a better understanding of human resource related issues\, whether you're just starting a business or expanding an existing business.\n\n \n\nThis workshop will help you refine your understanding of human resources.\n\n \n\nYou will learn:\n\n \n\n\n	\n		The 5 W's of Recruitment and Selection\n	\n		Fundamental HR Practices\n	\n		Understanding Employment Legislation\n\n \n\nA question-and-answer period will be included in the workshop.\n\n\n\nFacilitated by Glen Grant\, HRfx Consulting Inc.
X-ALT-DESC;FMTTYPE=text/html:<span style="font-family: arial"><span style="font-size: 13pt">This workshop will provide you with a better understanding of human resource related issues\, whether you&rsquo\;re just starting a business or expanding an existing business.</span><br />\n&nbsp\;<br />\n<span style="font-size: 13pt">This workshop will help you refine your understanding of human resources.</span><br />\n&nbsp\;<br />\n<strong><span style="font-size: medium">You will learn:</span></strong><br />\n&nbsp\;</span><br />\n<ul>\n	<li style="line-height: 150%">\n		<span style="font-family: arial"><span style="font-size: 11pt">The 5 W&rsquo\;s of Recruitment and Selection</span></span></li>\n	<li style="line-height: 150%">\n		<span style="font-family: arial"><span style="font-size: 11pt">Fundamental HR Practices</span></span></li>\n	<li style="line-height: 150%">\n		<span style="font-family: arial"><span style="font-size: 11pt">Understanding Employment Legislation</span></span></li>\n</ul>\n<span style="font-family: arial">&nbsp\;<br />\n<span style="font-size: 11pt">A question-and-answer period will be included in the workshop.<br />\n<br />\nFacilitated by Glen Grant\, HRfx Consulting Inc.</span></span><br />\n
LOCATION:Surrey Board of Trade Conference Room #101 - 14439 104 Avenue\, Surrey
UID:e.749.1713
SEQUENCE:3
DTSTAMP:20260422T091605Z
URL:https://business.businessinsurrey.com/events/details/november-24-2010-hr-strategies-for-business-11-24-2010-1713
END:VEVENT

END:VCALENDAR
