BEGIN:VCALENDAR
VERSION:2.0
PRODID:-//ChamberMaster//Event Calendar 2.0//EN
METHOD:PUBLISH
X-PUBLISHED-TTL:P3D
REFRESH-INTERVAL:P3D
CALSCALE:GREGORIAN
BEGIN:VEVENT
DTSTART:20101118T200000Z
DTEND:20101118T213000Z
X-MICROSOFT-CDO-ALLDAYEVENT:FALSE
SUMMARY:November 18\, 2010 - Carole James Lunch
DESCRIPTION:Lunch with the Honourable Carole James\, Leader of the Official Opposition.\n\n	 \n\n	Carole James was elected Leader of the BC New Democratic Part on November 23\, 2003.  Carole Served as President of the BC School Trustees Association for an unprecedented five terms\, commencing in 1995.\n\n	 \n\n	Hear the other side.  \n\n	 \n\n	Healthy\, safe and properour communities.\n\n	 \n\n	Ms. James will include the following topics in her speech:\n\n	\n		Crime\n	\n		Education\n	\n		Transportation\n	\n		Health\n\n\n	Building a strong\, fair\, sustainable economy.
X-ALT-DESC;FMTTYPE=text/html:<div>\n	Lunch with the Honourable Carole James\, Leader of the Official Opposition.</div>\n<div>\n	&nbsp\;</div>\n<div>\n	Carole James was elected Leader of the BC&nbsp\;New Democratic Part on November 23\, 2003.&nbsp\; Carole Served as President of the BC&nbsp\;School&nbsp\;Trustees Association for an unprecedented five terms\, commencing in 1995.</div>\n<div>\n	&nbsp\;</div>\n<div>\n	<strong>Hear the other side.&nbsp\; </strong></div>\n<div>\n	&nbsp\;</div>\n<div>\n	Healthy\, safe and properour communities.</div>\n<div>\n	&nbsp\;</div>\n<div>\n	Ms. James will include the following topics in her speech:</div>\n<ul>\n	<li>\n		Crime</li>\n	<li>\n		Education</li>\n	<li>\n		Transportation</li>\n	<li>\n		Health</li>\n</ul>\n<p>\n	Building a strong\, fair\, sustainable economy.</p>\n
LOCATION:Eaglequest Golf Course - Coyote Creek 7778 152 Street\, Surrey
UID:e.749.1650
SEQUENCE:3
DTSTAMP:20260422T091346Z
URL:https://business.businessinsurrey.com/events/details/november-18-2010-carole-james-lunch-11-18-2010-1650
END:VEVENT

END:VCALENDAR
