BEGIN:VCALENDAR
VERSION:2.0
PRODID:-//ChamberMaster//Event Calendar 2.0//EN
METHOD:PUBLISH
X-PUBLISHED-TTL:P3D
REFRESH-INTERVAL:P3D
CALSCALE:GREGORIAN
BEGIN:VEVENT
DTSTART:20151113T153000Z
DTEND:20151113T173000Z
X-MICROSOFT-CDO-ALLDAYEVENT:FALSE
SUMMARY:November 13\, 2015 - Creative Economy Dialogue: Leadership Surrey Series
DESCRIPTION:What can arts and culture do for the economy\, and what can business do for arts and culture?\n\n\n\nThrough a series of events\, the Surrey Board of Trade has made a commitment to foster\, enhance\, and expand the development of the rich human\, cultural\, and natural resources of the community residing in a more competitive economy in what is one of Canada's most livable communities.\n\n\n\nThe keynote speakers will explore:\n\n1. Polocies that need to be changed\n\n2. Opportunities for businesses to engage and build a creative economy\n\n\n\nBring your questions on how we can build Surrey's Creative Economy.\n\n\n\nSpeakers:\n\n1. The Hon. Peter Fassbender\, Minister of Community\, Sport and Cultural Development\n\n2. Catherine Murray\, SFU School of Communication Professor\n\n\n\nSponsored by the Sheraton Vancouver Guildford Hotel.
X-ALT-DESC;FMTTYPE=text/html:What can arts and culture do for the economy\, and what can business do for arts and culture?<br />\n<br />\nThrough a series of events\, the Surrey Board of Trade has made a commitment to foster\, enhance\, and expand the development of the rich human\, cultural\, and natural resources of the community residing in a more competitive economy in what is one of Canada&#39\;s most livable communities.<br />\n<br />\nThe keynote speakers will explore:<br />\n1. Polocies that need to be changed<br />\n2. Opportunities for businesses to engage and build a creative economy<br />\n<br />\nBring your questions on how we can build Surrey&#39\;s Creative Economy.<br />\n<br />\n<strong>Speakers:<br />\n1. The Hon. Peter Fassbender\, Minister of Community\, Sport and Cultural Development<br />\n2. Catherine Murray\, SFU School of Communication Professor</strong><br />\n<br />\nSponsored by the Sheraton Vancouver Guildford Hotel.
LOCATION:Sheraton Vancouver Guildford Hotel 15269 104 Avenue
UID:e.749.3685
SEQUENCE:3
DTSTAMP:20260423T214929Z
URL:https://business.businessinsurrey.com/events/details/november-13-2015-creative-economy-dialogue-leadership-surrey-series-11-13-2015-3685
END:VEVENT

END:VCALENDAR
