BEGIN:VCALENDAR
VERSION:2.0
PRODID:-//ChamberMaster//Event Calendar 2.0//EN
METHOD:PUBLISH
X-PUBLISHED-TTL:P3D
REFRESH-INTERVAL:P3D
CALSCALE:GREGORIAN
BEGIN:VEVENT
DTSTART:20110201T180000Z
DTEND:20110201T190000Z
X-MICROSOFT-CDO-ALLDAYEVENT:FALSE
SUMMARY:No Show Celebrity Gala
DESCRIPTION:Greetings!  \n\n\n\nThe Surrey Foundation is preparing for its first fundraising event in 2011\, scheduled to launch in February 2011.  This year's fundraiser will be a unique twist on our typical fundraising events in the past.   Rather than hosting a gala event\, we will be inviting supporters of the Foundation to "not attend" our "No-Show" Celebrity Gala.    \n\n\n\nWe will cordially invite guests to stay at home and enjoy a evening with their family and friends\, along with a special gift from their local Boston Pizza\, knowing that their tax-deductible contribution to the Surrey Foundation is improving the quality of life for all of Surrey\, now and for generations to come.\n\n\n\nEach ticket purchased to this celebrity endorsed "No-Show" Gala will be eligible to enter into a raffle draw and participate in an on-line auction to win one of many fabulous items.\n\n\n\nAs in the past\, we are reaching out to the corporate and private sector for support.  We respectfully ask for your help by donating an item or items for our prize draw or on-line auction.  All prizes and auction items will be listed on the "No-Show" Celebrity Gala website with a clickable logo and/or link to the donor's website.\n\n\n\nThe Surrey Foundation has a long history of supporting a broad range of areas that shape the City we live in\, including arts and culture\, heritage\, youth\, education\, literacy\, and family services.  Since its inception\, the Foundation has disbursed over one million dollars to registered charities who help make Surrey a better place to live\, work and play.\n\n\n\nPlease help us continue to make a positive and lasting impact on the quality of community life in Surrey by contributing to the "No-Show" Celebrity Gala.   \n\n\n\nTo donate an auction or prize item\, please click on the link below and fill out the attached form.  \n\n\n\nPrize or Auction Item Donation Form\n\n\n\nThis can be returned to us by:\n\n\n\nFax:     604-591-2656\n\nEmail:  info@surreyfoundation.org\n\nMail:    PO Box 34089\n\n            Surrey\, BC  V3S 8C4\n\n\n\nIf you would like to support the Surrey Foundation by purchasing tickets to the "No-Show" Celebrity Gala\, please click here and we will send you an "unvitation" in February\, 2011.\n\n\n\nYES\, I'd like an "unvitation"\n\n\n\nThank you so much for your consideration of supporting the Surrey Foundation.\n\n\n\nPlease contact our office at 604.591.2699\, or contact Kim Angel directly at 604-542-2767\, if you have any questions or require further information.\n\n\n\nSincerely\,\n\n\n\nThe Board of Directors and Staff of the Surrey Foundation
X-ALT-DESC;FMTTYPE=text/html:Greetings! &nbsp\;<br />\n<br />\nThe Surrey Foundation is preparing for its first fundraising event in 2011\, scheduled to launch in February 2011.&nbsp\; This year&#39\;s fundraiser will be a unique twist on our typical fundraising events in the past.&nbsp\;&nbsp\; Rather than hosting a gala event\, we will be inviting supporters of the Foundation to &quot\;not attend&quot\; our &quot\;No-Show&quot\; Celebrity Gala.&nbsp\;&nbsp\; &nbsp\;<br />\n<br />\nWe will cordially invite guests to stay at home and enjoy a evening with their family and friends\, along with a special gift from their local Boston Pizza\, knowing that their tax-deductible contribution to the Surrey Foundation is improving the quality of life for all of Surrey\, now and for generations to come.<br />\n<br />\nEach ticket purchased to this celebrity endorsed &quot\;No-Show&quot\; Gala will be eligible to enter into a raffle draw and participate in an on-line auction to win one of many fabulous items.<br />\n<br />\nAs in the past\, we are reaching out to the corporate and private sector for support.&nbsp\; We respectfully ask for your help by donating an item or items for our prize draw or on-line auction.&nbsp\; All prizes and auction items will be listed on the &quot\;No-Show&quot\; Celebrity Gala website with a clickable logo and/or link to the donor&#39\;s website.<br />\n<br />\nThe Surrey Foundation has a long history of supporting a broad range of areas that shape the City we live in\, including arts and culture\, heritage\, youth\, education\, literacy\, and family services.&nbsp\; Since its inception\, the Foundation has disbursed over one million dollars to registered charities who help make Surrey a better place to live\, work and play.<br />\n<br />\nPlease help us continue to make a positive and lasting impact on the quality of community life in Surrey by contributing to the &quot\;No-Show&quot\; Celebrity Gala.&nbsp\; &nbsp\;<br />\n<br />\nTo donate an auction or prize item\, please click on the link below and fill out the attached form. &nbsp\;<br />\n<br />\n<strong><span style="font-size: 14px\;">Prize or Auction Item Donation Form</span></strong><br />\n<br />\nThis can be returned to us by:<br />\n<br />\n<strong>Fax</strong>:&nbsp\;&nbsp\;&nbsp\;&nbsp\; 604-591-2656<br />\n<strong>Email</strong>:&nbsp\; info@surreyfoundation.org<br />\n<strong>Mail</strong>:&nbsp\;&nbsp\;&nbsp\; PO Box 34089<br />\n&nbsp\;&nbsp\;&nbsp\;&nbsp\;&nbsp\;&nbsp\;&nbsp\;&nbsp\;&nbsp\;&nbsp\;&nbsp\; Surrey\, BC&nbsp\; V3S 8C4<br />\n<br />\nIf you would like to support the Surrey Foundation by purchasing tickets to the &quot\;No-Show&quot\; Celebrity Gala\, please click here and we will send you an &quot\;unvitation&quot\; in February\, 2011.<br />\n<br />\n<strong><span style="font-size: 14px\;">YES\, I&#39\;d like an &quot\;unvitation&quot\;</span></strong><br />\n<br />\nThank you so much for your consideration of supporting the Surrey Foundation.<br />\n<br />\nPlease contact our office at 604.591.2699\, or contact Kim Angel directly at 604-542-2767\, if you have any questions or require further information.<br />\n<br />\nSincerely\,<br />\n<br />\nThe Board of Directors and Staff of the Surrey Foundation
LOCATION:
UID:e.749.1792
SEQUENCE:3
DTSTAMP:20260422T082029Z
URL:https://business.businessinsurrey.com/events/details/no-show-celebrity-gala-02-01-2011-1792
END:VEVENT

END:VCALENDAR
