BEGIN:VCALENDAR
VERSION:2.0
PRODID:-//ChamberMaster//Event Calendar 2.0//EN
METHOD:PUBLISH
X-PUBLISHED-TTL:P3D
REFRESH-INTERVAL:P3D
CALSCALE:GREGORIAN
BEGIN:VEVENT
DTSTART:20101130T170000Z
DTEND:20101130T220000Z
X-MICROSOFT-CDO-ALLDAYEVENT:FALSE
SUMMARY:NAFTA Rules of Origin Workshop
DESCRIPTION:You may be surprised to learn when duty may apply\n\n	 \n\n	Pacific Customs Brokers is offering a NAFTA Seminar/Workshop for both Canadian & U.S. companies. This session will be of interest to: Business Owners\, Operation Managers\, Controllers\, Purchasers\, Logistics Supervisors/Coordinators\, Production Managers and new employees of companies importing/exporting within North America. We will assist you in understanding your responsibilities under NAFTA\, and will provide you with practical tools for completing certification of your products. In addition\, we will educate you on the Rules of Origin and classification of your goods under the Harmonized Tariff Schedule. The seminars take place in an informal setting at our facility in Surrey\, B.C.\n\n	 \n\n	Date\, Time and Location:\n\n	 \n\n	Pacific Customs Brokers - Seminar Room (101-17637 1st Avenue\, Surrey)\n\n	 \n\n	Tuesday\, November 30\, 2010\; 9am - 2pm Session\n\n	 \n\n	Registration Information:\n\n	 \n\n	Seminar Fee: The cost for the seminar is $145 CAD per person (Continental breakfast and lunch included).\n\n	 \n\n	Register Online: www.pcb.ca/seminars\n\n	 \n\n	Contact Information:\n\n	 \n\n	Yvette Fox at Pacific Customs Brokers\n\n	Phone 604.538.1566\n\n	Fax 604.531.3120\n\n	Email seminars@pcb.ca\n\n	 \n\n	Registration Deadline: Friday\, November 26\, 2010
X-ALT-DESC;FMTTYPE=text/html:<div>\n	You may be surprised to learn when duty may apply</div>\n<div>\n	&nbsp\;</div>\n<div>\n	Pacific Customs Brokers is offering a NAFTA Seminar/Workshop for both Canadian &amp\; U.S. companies. This session will be of interest to: Business Owners\, Operation Managers\, Controllers\, Purchasers\, Logistics Supervisors/Coordinators\, Production Managers and new employees of companies importing/exporting within North America. We will assist you in understanding your responsibilities under NAFTA\, and will provide you with practical tools for completing certification of your products. In addition\, we will educate you on the Rules of Origin and classification of your goods under the Harmonized Tariff Schedule. The seminars take place in an informal setting at our facility in Surrey\, B.C.</div>\n<div>\n	&nbsp\;</div>\n<div>\n	Date\, Time and Location:</div>\n<div>\n	&nbsp\;</div>\n<div>\n	Pacific Customs Brokers - Seminar Room (101-17637 1st Avenue\, Surrey)</div>\n<div>\n	&nbsp\;</div>\n<div>\n	Tuesday\, November 30\, 2010\; 9am - 2pm Session</div>\n<div>\n	&nbsp\;</div>\n<div>\n	<strong>Registration Information:</strong></div>\n<div>\n	&nbsp\;</div>\n<div>\n	Seminar Fee: The cost for the seminar is $145 CAD per person (Continental breakfast and lunch included).</div>\n<div>\n	&nbsp\;</div>\n<div>\n	Register Online: <a href="http://www.pcb.ca/seminars" target="_blank">www.pcb.ca/seminars</a></div>\n<div>\n	&nbsp\;</div>\n<div>\n	Contact Information:</div>\n<div>\n	&nbsp\;</div>\n<div>\n	Yvette Fox at Pacific Customs Brokers</div>\n<div>\n	Phone 604.538.1566</div>\n<div>\n	Fax 604.531.3120</div>\n<div>\n	Email <a href="http://mailto:seminars@pcb.ca">seminars@pcb.ca</a></div>\n<div>\n	&nbsp\;</div>\n<div>\n	Registration Deadline: Friday\, November 26\, 2010</div>\n
LOCATION:Pacific Customs Brokers - Seminar Room (101-17637 1st Avenue\, Surrey)
UID:e.749.1704
SEQUENCE:3
DTSTAMP:20260422T120657Z
URL:https://business.businessinsurrey.com/events/details/nafta-rules-of-origin-workshop-11-30-2010-1704
END:VEVENT

END:VCALENDAR
