BEGIN:VCALENDAR
VERSION:2.0
PRODID:-//ChamberMaster//Event Calendar 2.0//EN
METHOD:PUBLISH
X-PUBLISHED-TTL:P3D
REFRESH-INTERVAL:P3D
CALSCALE:GREGORIAN
BEGIN:VEVENT
DTSTART:20110126T170000Z
DTEND:20110126T220000Z
X-MICROSOFT-CDO-ALLDAYEVENT:FALSE
SUMMARY:NAFTA Rules of Origin Workshop
DESCRIPTION:Don't Assume North American Imports are Duty Free\n\n\n\nNAFTA Rules of Origin Workshop\, you may be surprised to learn when duty may apply\n\n\n\nPacific Customs Brokers is offering a NAFTA Seminar/Workshop for both Canadian & U.S. companies. This session will be of interest to: Business Owners\, Operation Managers\, Controllers\, Purchasers\, Logistics Supervisors/Coordinators\, Production Managers and new employees of companies importing/exporting within North America. We will assist you in understanding your responsibilities under NAFTA\, and will provide you with practical tools for completing certification of your products. In addition\, we will educate you on the Rules of Origin and classification of your goods under the Harmonized Tariff Schedule. The seminar takes place in an informal setting at our facility in Surrey\, B.C.\n\n\n\nTopics of the Seminar Include:\n\n* Introduction to NAFTA\n\n* History of NAFTA\n\n* NAFTA Rules of Origin\n\n* Eligibility Options\n\n* Regional Value Content\n\n* Country of Origin\n\n* Marking Determination and Requirements\n\n* Post Entry Claims / Amendments(CA & USA Variables)\n\n* Audit Verifications (CA & USA Variables)\n\n* Case Studies\n\n\n\nPresentation Speakers:\n\n\n\nLine Clarke LCB\, CCS - Licensed Customs Broker and Certified Customs Specialist\, with 30 years experience in the import /export customs industry. In addition\, Line has been an Instructor\, teaching Customs Brokerage Classes for over 15 years.\n\n\n\nApril Collier LCB\, CCS - Licensed Customs Broker and Certified Customs Specialist with over 25 years experience in the industry. April has been teaching Customs Brokerage Classes for over 15 years.\n\n\n\nQ & A With:\n\nForrest Fennell LCB\, CCS - Licensed Customs Broker and Certified Customs Specialist. Forrest is a Tariff Consultant employed by Pacific Customs Brokers for over 38 years.
X-ALT-DESC;FMTTYPE=text/html:Don&#39\;t Assume North American Imports are Duty Free<br />\n<br />\nNAFTA Rules of Origin Workshop\, you may be surprised to learn when duty may apply<br />\n<br />\nPacific Customs Brokers is offering a NAFTA Seminar/Workshop for both Canadian &amp\; U.S. companies. This session will be of interest to: Business Owners\, Operation Managers\, Controllers\, Purchasers\, Logistics Supervisors/Coordinators\, Production Managers and new employees of companies importing/exporting within North America. We will assist you in understanding your responsibilities under NAFTA\, and will provide you with practical tools for completing certification of your products. In addition\, we will educate you on the Rules of Origin and classification of your goods under the Harmonized Tariff Schedule. The seminar takes place in an informal setting at our facility in Surrey\, B.C.<br />\n<br />\nTopics of the Seminar Include:<br />\n* Introduction to NAFTA<br />\n* History of NAFTA<br />\n* NAFTA Rules of Origin<br />\n* Eligibility Options<br />\n* Regional Value Content<br />\n* Country of Origin<br />\n* Marking Determination and Requirements<br />\n* Post Entry Claims / Amendments(CA &amp\; USA Variables)<br />\n* Audit Verifications (CA &amp\; USA Variables)<br />\n* Case Studies<br />\n<br />\nPresentation Speakers:<br />\n<br />\nLine Clarke LCB\, CCS - Licensed Customs Broker and Certified Customs Specialist\, with 30 years experience in the import /export customs industry. In addition\, Line has been an Instructor\, teaching Customs Brokerage Classes for over 15 years.<br />\n<br />\nApril Collier LCB\, CCS - Licensed Customs Broker and Certified Customs Specialist with over 25 years experience in the industry. April has been teaching Customs Brokerage Classes for over 15 years.<br />\n<br />\nQ &amp\; A With:<br />\nForrest Fennell LCB\, CCS - Licensed Customs Broker and Certified Customs Specialist. Forrest is a Tariff Consultant employed by Pacific Customs Brokers for over 38 years.
LOCATION:Pacific Customs Brokers - Seminar Room 101 - 17637 1st Avenue Surrey\, British Columbia Canada V3S 9S1
UID:e.749.1781
SEQUENCE:3
DTSTAMP:20260422T094056Z
URL:https://business.businessinsurrey.com/events/details/nafta-rules-of-origin-workshop-01-26-2011-1781
END:VEVENT

END:VCALENDAR
