BEGIN:VCALENDAR
VERSION:2.0
PRODID:-//ChamberMaster//Event Calendar 2.0//EN
METHOD:PUBLISH
X-PUBLISHED-TTL:P3D
REFRESH-INTERVAL:P3D
CALSCALE:GREGORIAN
BEGIN:VEVENT
DTSTART:20260530T190000Z
DTEND:20260530T230000Z
X-MICROSOFT-CDO-ALLDAYEVENT:FALSE
SUMMARY:Métis: Children of the Fur Trade
DESCRIPTION:M tis: Children of the Fur Trade - Community Event The Surrey Delta M tis Association invites the community to M tis: Children of the Fur Trade\, a family-friendly event celebrating M tis culture\, history\, and connection.\n\n\n\nJoin us on Saturday\, May 30 from 12:00 PM to 4:00 PM at the Surrey Museum for an afternoon of cultural learning and community gathering. The event will feature M tis artisans\, cultural displays and teachings\, interactive experiences for children and families\, and a variety of food vendors on site. This event is open to M tis families\, community members\, and the general public. All are welcome to come together in a space that uplifts M tis culture and creates opportunities for learning\, connection\, and celebration.
X-ALT-DESC;FMTTYPE=text/html:<span style="font-size:16px\;">M&eacute\;tis: Children of the Fur Trade - Community Event The Surrey Delta M&eacute\;tis Association invites the community to M&eacute\;tis: Children of the Fur Trade\, a family-friendly event celebrating M&eacute\;tis culture\, history\, and connection.<br />\n<br />\nJoin us on Saturday\, May 30 from 12:00 PM to 4:00 PM at the Surrey Museum for an afternoon of cultural learning and community gathering. The event will feature M&eacute\;tis artisans\, cultural displays and teachings\, interactive experiences for children and families\, and a variety of food vendors on site. This event is open to M&eacute\;tis families\, community members\, and the general public. All are welcome to come together in a space that uplifts M&eacute\;tis culture and creates opportunities for learning\, connection\, and celebration.</span>
LOCATION:Surrey Museum 17710 56a Ave\, Surrey
UID:e.749.14404
SEQUENCE:3
DTSTAMP:20260419T145828Z
URL:https://business.businessinsurrey.com/events/details/m&#233;tis-children-of-the-fur-trade-14404
END:VEVENT

END:VCALENDAR
