BEGIN:VCALENDAR
VERSION:2.0
PRODID:-//ChamberMaster//Event Calendar 2.0//EN
METHOD:PUBLISH
X-PUBLISHED-TTL:P3D
REFRESH-INTERVAL:P3D
CALSCALE:GREGORIAN
BEGIN:VEVENT
DTSTART;VALUE=DATE:20090506
DTEND;VALUE=DATE:20090507
TRANSP:TRANSPARENT
X-MICROSOFT-CDO-ALLDAYEVENT:TRUE
SUMMARY:May 6\, '09 - Let's Talk Exports Breakfast
DESCRIPTION:
X-ALT-DESC;FMTTYPE=text/html:
LOCATION:
UID:e.749.1494
SEQUENCE:3
DTSTAMP:20260423T153201Z
URL:https://business.businessinsurrey.com/events/details/may-6-09-let-s-talk-exports-breakfast-05-06-2009-1494
END:VEVENT

END:VCALENDAR
