BEGIN:VCALENDAR
VERSION:2.0
PRODID:-//ChamberMaster//Event Calendar 2.0//EN
METHOD:PUBLISH
X-PUBLISHED-TTL:P3D
REFRESH-INTERVAL:P3D
CALSCALE:GREGORIAN
BEGIN:VEVENT
DTSTART:20160505T144500Z
DTEND:20160505T170000Z
X-MICROSOFT-CDO-ALLDAYEVENT:FALSE
SUMMARY:May 5\, 2016 - Disaster Preparedness for Business Workshop
DESCRIPTION:Are you prepared if a disaster strikes? Is your business prepared? The Surrey Board of Trade\, in partnership with the Surrey Fire Department and St. John Ambulance\, is hosting an informative session on how to personally prepare for disasters or large scale emergencies. If you can be prepared\, your business can be prepared. This session will also include information on what should be in a "Grab & Go" kit.
X-ALT-DESC;FMTTYPE=text/html:Are you prepared if a disaster strikes? Is your business prepared? The Surrey Board of Trade\, in partnership with the Surrey Fire Department and St. John Ambulance\, is hosting an informative session on how to personally prepare for disasters or large scale emergencies. If you can be prepared\, your business can be prepared. This session will also include information on what should be in a &quot\;Grab &amp\; Go&quot\; kit.
LOCATION:SBOT Conference Room 101-14439 104 Avenue\, Surrey
UID:e.749.4920
SEQUENCE:3
DTSTAMP:20260424T070432Z
URL:https://business.businessinsurrey.com/events/details/may-5-2016-disaster-preparedness-for-business-workshop-05-05-2016-4920
END:VEVENT

END:VCALENDAR
