BEGIN:VCALENDAR
VERSION:2.0
PRODID:-//ChamberMaster//Event Calendar 2.0//EN
METHOD:PUBLISH
X-PUBLISHED-TTL:P3D
REFRESH-INTERVAL:P3D
CALSCALE:GREGORIAN
BEGIN:VEVENT
DTSTART;VALUE=DATE:20090529
DTEND;VALUE=DATE:20090530
TRANSP:TRANSPARENT
X-MICROSOFT-CDO-ALLDAYEVENT:TRUE
SUMMARY:May 29\, '09 - Surrey Children's Festival
DESCRIPTION:
X-ALT-DESC;FMTTYPE=text/html:
LOCATION:
UID:e.749.1527
SEQUENCE:3
DTSTAMP:20260423T154006Z
URL:https://business.businessinsurrey.com/events/details/may-29-09-surrey-children-s-festival-05-29-2009-1527
END:VEVENT

END:VCALENDAR
