BEGIN:VCALENDAR
VERSION:2.0
PRODID:-//ChamberMaster//Event Calendar 2.0//EN
METHOD:PUBLISH
X-PUBLISHED-TTL:P3D
REFRESH-INTERVAL:P3D
CALSCALE:GREGORIAN
BEGIN:VEVENT
DTSTART:20160527T003000Z
DTEND:20160527T030000Z
X-MICROSOFT-CDO-ALLDAYEVENT:FALSE
SUMMARY:May 26\, 2016 - Top 25 Under 25
DESCRIPTION:Join us in celebrating the recipients of the 6th Annual Surrey's Top 25 Under 25 Awards. \n\nWinners will be presented with awards at a celebratory networking reception on\n\nThursday\, May 26\, 2016.\n\n\n\nKeynote Speaker: Leah Goldstein\, World Champion Kickboxer\, Ultra Endurance Cyclist\, Israeli Undercover Police Officer.\n\nWhat happens when a young girl doesn't believe in limitations? What is possible when her dreams resonate at such a frequency\, that they force themselves into reality? Practically anything\, as proven by Leah Goldstein's stunning example of an unbounded life.\n\nEnjoy delicious hors d'oeuvres\, make new business contacts\, and celebrate the achievements of our future leaders!
X-ALT-DESC;FMTTYPE=text/html:<div class="page" title="Page 1">\n<div class="section">\n<div class="layoutArea">\n<div class="column">\n<p><span style="font-family:arial\;"><span style="font-size: 12px\;"><span style="font-weight: 500\;">Join us in celebrating the recipients of the 6th Annual Surrey&rsquo\;s Top 25 Under 25 Awards. </span></span></span></p>\n\n<p><span style="font-family:arial\;"><span style="font-size: 12px\;"><span style="font-weight: 500\;"><a href="http://businessinsurrey.com/events/surreys-top-25-under-25-awards/">Winners</a> will be presented with awards at a celebratory networking reception on</span></span><br />\nThursday\, May 26\, 2016.</span><br />\n<br />\n<span style="font-size:12px\;"><span style="font-family: arial\;"><span style="color:#006666\;"><strong>Keynote Speaker:</strong> Leah Goldstein\, World Champion Kickboxer\, Ultra Endurance Cyclist\, Israeli Undercover Police Officer.</span><br />\nWhat happens when a young girl doesn&rsquo\;t believe in limitations? What is possible when her dreams resonate at such a frequency\, that they force themselves into reality? Practically anything\, as proven by Leah Goldstein&rsquo\;s stunning example of an unbounded life.</span></span></p>\n\n<p><span style="font-family:arial\;"><span style="font-size: 12px\;"><span style="font-weight: 500\;">Enjoy delicious hors d&rsquo\;oeuvres\, make new business contacts\, and celebrate the achievements of our future leaders!</span></span></span></p>\n</div>\n</div>\n</div>\n</div>\n
LOCATION:Eaglequest Golf Course 7778 152 Street\, Surrey
UID:e.749.3744
SEQUENCE:3
DTSTAMP:20260424T070337Z
URL:https://business.businessinsurrey.com/events/details/may-26-2016-top-25-under-25-05-26-2016-3744
END:VEVENT

END:VCALENDAR
