BEGIN:VCALENDAR
VERSION:2.0
PRODID:-//ChamberMaster//Event Calendar 2.0//EN
METHOD:PUBLISH
X-PUBLISHED-TTL:P3D
REFRESH-INTERVAL:P3D
CALSCALE:GREGORIAN
BEGIN:VEVENT
DTSTART:20150526T150000Z
DTEND:20150526T170000Z
X-MICROSOFT-CDO-ALLDAYEVENT:FALSE
SUMMARY:May 26\, 2015 - The ROI of Health and Safety Workshop
DESCRIPTION:The ROI of Health and Safety \n\n\n\nThe Surrey Board of Trade\, in conjunction with the FIOSA-MIOSA Safety Alliance of BC\, invite you to a special Awareness Session where you will learn about the return on invest in health and safety.\n\n\n\nWhy Attend?\n\nLearn the true cost of WSBC claims and how to reduce them. Understand what you can do to minimize your WSBC costs including surcharges and even receive discounts from WSBC.\n\n\n\nIf you're still wondering why you should attend ask yourself these two questions:\n\n        1. How much did you pay Worksafe BC last year?\n\n        2. Are you paying a surcharge to Worksafe BC?\n\nIf you don't know these answers\, you may be missing out on thousands of dollars of rebates and unnecessary payments to WorkSafe BC.\n\n\n\nWho Should Attend? \n\nBusiness owners\; CEO's\; CFO's\; Senior executives\n\n\n\nPresented by Fiosa Miosa Safety Alliance of BC.
X-ALT-DESC;FMTTYPE=text/html:<strong>The ROI of Health and Safety </strong><br />\n<br />\nThe Surrey Board of Trade\, in conjunction with the FIOSA-MIOSA Safety Alliance of BC\, invite you to a special Awareness Session where you will learn about the return on invest in health and safety.<br />\n<br />\n<strong>Why Attend?</strong><br />\nLearn the true cost of WSBC claims and how to reduce them. Understand what you can do to minimize your WSBC costs including surcharges and even receive discounts from WSBC.<br />\n<br />\n<strong>If you&rsquo\;re still wondering why you should attend ask yourself these two questions:</strong><br />\n&nbsp\;&nbsp\;&nbsp\;&nbsp\;&nbsp\;&nbsp\;&nbsp\;&nbsp\;1. How much did you pay Worksafe BC last year?<br />\n&nbsp\;&nbsp\;&nbsp\;&nbsp\;&nbsp\;&nbsp\;&nbsp\;&nbsp\;2. Are you paying a surcharge to Worksafe BC?<br />\nIf you don&rsquo\;t know these answers\, you may be missing out on thousands of dollars of rebates and unnecessary payments to WorkSafe BC.<br />\n<br />\n<strong>Who Should Attend? </strong><br />\nBusiness owners\; CEO&rsquo\;s\; CFO&rsquo\;s\; Senior executives<br />\n<br />\nPresented by Fiosa Miosa Safety Alliance of BC.
LOCATION:Surrey Board of Trade Conference Room 101 - 14439 104 Ave Surrey\, BC V3R 1M1
UID:e.749.2886
SEQUENCE:3
DTSTAMP:20260423T122646Z
URL:https://business.businessinsurrey.com/events/details/may-26-2015-the-roi-of-health-and-safety-workshop-05-26-2015-2886
END:VEVENT

END:VCALENDAR
