BEGIN:VCALENDAR
VERSION:2.0
PRODID:-//ChamberMaster//Event Calendar 2.0//EN
METHOD:PUBLISH
X-PUBLISHED-TTL:P3D
REFRESH-INTERVAL:P3D
CALSCALE:GREGORIAN
BEGIN:VEVENT
DTSTART:20150527T000000Z
DTEND:20150527T020000Z
X-MICROSOFT-CDO-ALLDAYEVENT:FALSE
SUMMARY:May 26\, 2015 - Business to Business Reception at Coast Surrey Guildford Hotel
DESCRIPTION:Business to Business Reception at Coast Surrey Guildford Hotel  \n\n \nJoin us to network with people in our community and enjoy the hospitality of Coast Surrey Guildford Hotel\, soon to be Four Points by Sheraton Surrey Hotel.\n\n\n\nWin Great Prizes!  Make new business contacts!
X-ALT-DESC;FMTTYPE=text/html:<strong>Business to Business Reception at Coast Surrey Guildford Hotel&nbsp\; </strong><br />\n&nbsp\;\n<div>Join us to network with people in our community and enjoy the hospitality of Coast Surrey Guildford Hotel\, soon to be Four Points by Sheraton Surrey Hotel.<br />\n<br />\nWin Great Prizes!&nbsp\; Make new business contacts!<br />\n&nbsp\;</div>\n<br />\n<br />\n&nbsp\;
LOCATION:Coast Surrey Guildford Hotel\, soon to be Four Points by Sheraton Surrey Hotel 10410 158 Street Surrey\, BC
UID:e.749.2835
SEQUENCE:3
DTSTAMP:20260423T122523Z
URL:https://business.businessinsurrey.com/events/details/may-26-2015-business-to-business-reception-at-coast-surrey-guildford-hotel-05-26-2015-2835
END:VEVENT

END:VCALENDAR
