BEGIN:VCALENDAR
VERSION:2.0
PRODID:-//ChamberMaster//Event Calendar 2.0//EN
METHOD:PUBLISH
X-PUBLISHED-TTL:P3D
REFRESH-INTERVAL:P3D
CALSCALE:GREGORIAN
BEGIN:VEVENT
DTSTART:20120525T143000Z
DTEND:20120525T163000Z
X-MICROSOFT-CDO-ALLDAYEVENT:FALSE
SUMMARY:May 25\, '12 - Surrey Children's Festival Breakfast
DESCRIPTION:
X-ALT-DESC;FMTTYPE=text/html:
LOCATION:Surrey Arts Centre 13750 88 Avenue\, Surrey
UID:e.749.2030
SEQUENCE:3
DTSTAMP:20260421T075254Z
URL:https://business.businessinsurrey.com/events/details/may-25-12-surrey-children-s-festival-breakfast-05-25-2012-2030
END:VEVENT

END:VCALENDAR
