BEGIN:VCALENDAR
VERSION:2.0
PRODID:-//ChamberMaster//Event Calendar 2.0//EN
METHOD:PUBLISH
X-PUBLISHED-TTL:P3D
REFRESH-INTERVAL:P3D
CALSCALE:GREGORIAN
BEGIN:VEVENT
DTSTART;VALUE=DATE:20090521
DTEND;VALUE=DATE:20090522
TRANSP:TRANSPARENT
X-MICROSOFT-CDO-ALLDAYEVENT:TRUE
SUMMARY:May 21\, '09 - Business Opportunities in India Luncheon
DESCRIPTION:
X-ALT-DESC;FMTTYPE=text/html:
LOCATION:
UID:e.749.1526
SEQUENCE:3
DTSTAMP:20260423T153427Z
URL:https://business.businessinsurrey.com/events/details/may-21-09-business-opportunities-in-india-luncheon-05-21-2009-1526
END:VEVENT

END:VCALENDAR
