BEGIN:VCALENDAR
VERSION:2.0
PRODID:-//ChamberMaster//Event Calendar 2.0//EN
METHOD:PUBLISH
X-PUBLISHED-TTL:P3D
REFRESH-INTERVAL:P3D
CALSCALE:GREGORIAN
BEGIN:VEVENT
DTSTART:20150520T181500Z
DTEND:20150520T203000Z
X-MICROSOFT-CDO-ALLDAYEVENT:FALSE
SUMMARY:May 20\, 2015 - Annual State of the City Luncheon
DESCRIPTION:Annual State of the City Luncheon\n\nwith Her Worship the Mayor of Surrey\, Linda Hepner.  \n\n\n\nJoin the Mayor for her inaugural State of the City presentation on the City of Surrey's progress and vision.\n\n\n\nTopics will include a discussion of Surrey's Economic Outlook and plans for the coming year.\n\n\n\nEarly registration is recommended.\n\n\n\n** This event is now sold out**\n\nTo be placed on the waitlist\, please email info@businessinsurrey.com.
X-ALT-DESC;FMTTYPE=text/html:<span style="font-size:14px\;"><strong>Annual State of the City Luncheon</strong></span><br />\nwith Her Worship the Mayor of Surrey\, Linda Hepner.&nbsp\;<span style="color: rgb(34\, 34\, 34)\; font-family: arial\, sans-serif\; font-size: 17.6000003814697px\; font-style: normal\; font-variant: normal\; font-weight: normal\; letter-spacing: normal\; line-height: normal\; orphans: auto\; text-align: start\; text-indent: 0px\; text-transform: none\; white-space: normal\; widows: auto\; word-spacing: 0px\; -webkit-text-stroke-width: 0px\; display: inline !important\; float: none\; background-color: rgb(255\, 255\, 255)\;"> </span><br />\n<br />\nJoin the Mayor for her inaugural State of the City presentation on the City of Surrey&rsquo\;s progress and vision.<br />\n<br />\nTopics will include a discussion of Surrey&rsquo\;s Economic Outlook and plans for the coming year.<br />\n<br />\nEarly registration is recommended.<br />\n<br />\n<span style="color:#FF0000\;"><strong><span style="font-size:18px\;">** This event is now sold out**</span><br />\nTo be placed on the waitlist\, please email info@businessinsurrey.com.</strong></span>
LOCATION:Sheraton Vancouver Guildford Hotel 15269 104th Ave Surrey\, BC
UID:e.749.3300
SEQUENCE:3
DTSTAMP:20260423T122346Z
URL:https://business.businessinsurrey.com/events/details/may-20-2015-annual-state-of-the-city-luncheon-05-20-2015-3300
END:VEVENT

END:VCALENDAR
