BEGIN:VCALENDAR
VERSION:2.0
PRODID:-//ChamberMaster//Event Calendar 2.0//EN
METHOD:PUBLISH
X-PUBLISHED-TTL:P3D
REFRESH-INTERVAL:P3D
CALSCALE:GREGORIAN
BEGIN:VEVENT
DTSTART:20160519T181500Z
DTEND:20160519T203000Z
X-MICROSOFT-CDO-ALLDAYEVENT:FALSE
SUMMARY:May 19\, 2016 - Mayor's Annual State of the City Luncheon
DESCRIPTION:**SOLD OUT - please call 604.581.7130 or email info@businessinsurrey.com to be added to the wait list**\n\n\n\nJoin the Mayor Linda Hepner for her 2nd State of the City presentation on the City of Surrey's progress and vision.\n\n\n\nTopics will include a discussion of Surrey?s Economic Outlook and plans for the coming year.\n\n\n\nEarly registration is recommended.\n\n \nJointly hosted by:\nCloverdale Chamber of Commerce\, Cloverdale Business Improvement Association\, Downtown Surrey Business Improvement Association\, Fleetwood Business Improvement Association\, Newton Business Improvement Association\, South Surrey and White Rock Chamber of Commerce\, Surrey Board of Trade and Tourism Surrey.\n\n\n\nPlease indicate if you will you require a vegetarian meal. \n\nFor other special dietary requirements\, please call or email Heather Booth at 604.634.0341 or heather@businessinsurrey.com at least 72 hours prior to the event.\n\n\n\nSponsorship opportunities are available. Please contact Heather Booth at 604.634.0341 or heather@businessinsurrey.com for details.
X-ALT-DESC;FMTTYPE=text/html:<strong><span style="color:#FF0000\;">**SOLD OUT - please call 604.581.7130 or email </span><a href="mailto:info@businessinsurrey.com"><span style="color:#FF0000\;">info@businessinsurrey.com</span></a><span style="color:#FF0000\;"> to be added to the wait list**</span></strong><br />\n<br />\nJoin the Mayor Linda Hepner for her 2nd State of the City presentation on the City of Surrey&#39\;s progress and vision.<br />\n<br />\nTopics will include a discussion of Surrey?s Economic Outlook and plans for the coming year.<br />\n<br />\nEarly registration is recommended.<br />\n&nbsp\;\n<div>Jointly hosted by:</div>\nCloverdale Chamber of Commerce\, Cloverdale Business Improvement Association\, Downtown Surrey Business Improvement Association\, Fleetwood Business Improvement Association\, Newton Business Improvement Association\, South Surrey and White Rock Chamber of Commerce\, Surrey Board of Trade and Tourism Surrey.<br />\n<br />\nPlease indicate if you will you require a vegetarian meal.&nbsp\;<br />\nFor other special dietary requirements\, please call or email Heather Booth at <a href="tel:604.634.0341" target="_blank" value="+16046340341">604.634.0341</a> or <a href="mailto:heather@businessinsurrey.com" target="_blank">heather@businessinsurrey.com</a> at least 72 hours prior to the event.<br />\n<br />\n<em>Sponsorship opportunities are available. Please contact Heather Booth at <a href="tel:604.634.0341" target="_blank" value="+16046340341">604.634.0341</a> or <a href="mailto:heather@businessinsurrey.com" target="_blank">heather@businessinsurrey.com</a> for details.</em>
LOCATION:Sheraton Vancouver Guildford Hotel 15269 104 Ave\, Surrey
UID:e.749.4780
SEQUENCE:3
DTSTAMP:20260424T070801Z
URL:https://business.businessinsurrey.com/events/details/may-19-2016-mayor-s-annual-state-of-the-city-luncheon-05-19-2016-4780
END:VEVENT

END:VCALENDAR
