BEGIN:VCALENDAR
VERSION:2.0
PRODID:-//ChamberMaster//Event Calendar 2.0//EN
METHOD:PUBLISH
X-PUBLISHED-TTL:P3D
REFRESH-INTERVAL:P3D
CALSCALE:GREGORIAN
BEGIN:VEVENT
DTSTART:20160511T144500Z
DTEND:20160511T170000Z
X-MICROSOFT-CDO-ALLDAYEVENT:FALSE
SUMMARY:May 11\, 2016 - Understanding Your Key Numbers for a Successful 2016
DESCRIPTION:Did we make money?\n\n\n\nNever ask this question again. In this session we will give you all the tools necessary to track your key metrics and the profitability of your company on a weekly basis. This tool will enable you to navigate 2016 and beyond with confidence and clear direction of where to focus your time and money. This session is designed for the service industry.\n\n\n\nYou will be given:\n\n\n\n  A set processes to track your numbers and predict how much profit you will make in 2016\n\n  Clarity on the most important metrics in your business and how you can turn raw numbers\n\n  A broken down sales and production plan giving you clear direction on what you need to do week to week in your business to hit your into meaningful action profit goals.\n\n\n\nThis workshop is facilitated by Danny Kerr of Breakthrough Academy\, specializing in trades and service companies.
X-ALT-DESC;FMTTYPE=text/html:<strong>Did we make money?</strong><br />\n<br />\nNever ask this question again. In this session we will give you all the tools necessary to track your key metrics and the profitability of your company on a weekly basis. This tool will enable you to navigate 2016 and beyond with confidence and clear direction of where to focus your time and money. This session is designed for the service industry.<br />\n<br />\nYou will be given:<br />\n<br />\n&bull\; A set processes to track your numbers and predict how much profit you will make in 2016<br />\n&bull\; Clarity on the most important metrics in your business and how you can turn raw numbers<br />\n&bull\; A broken down sales and production plan giving you clear direction on what you need to do week to week in your business to hit your into meaningful action profit goals.<br />\n<br />\n<strong>This workshop is facilitated by Danny Kerr of Breakthrough Academy\, specializing in trades and service companies.</strong>
LOCATION:Surrey Board of Trade (101 - 14439 104 Avenue)
UID:e.749.4869
SEQUENCE:3
DTSTAMP:20260424T083449Z
URL:https://business.businessinsurrey.com/events/details/may-11-2016-understanding-your-key-numbers-for-a-successful-2016-05-11-2016-4869
END:VEVENT

END:VCALENDAR
