BEGIN:VCALENDAR
VERSION:2.0
PRODID:-//ChamberMaster//Event Calendar 2.0//EN
METHOD:PUBLISH
X-PUBLISHED-TTL:P3D
REFRESH-INTERVAL:P3D
CALSCALE:GREGORIAN
BEGIN:VEVENT
DTSTART:20120725T020000Z
DTEND:20120725T040000Z
X-MICROSOFT-CDO-ALLDAYEVENT:FALSE
SUMMARY:Mastering Your Business for Maximum PROFIT & SUCCESS
DESCRIPTION:Colin Sprake is an extremely charismatic speaker and is frequently invited to speak or be master of ceremonies at events all over the world\, events as small as a board of directors meetings through to big corporate and association functions with hundreds or even thousands of attendees.\n\n	\n\n	\n\n	\n\n	He is putting on a evening called Mastering Your Business for Maximum PROFIT & SUCCESS throughout the lower mainland.\n\n	\n\n	\n\n	\n\n	You are welcome to invite a business partner with you\, all I ask is you send me their name and I can ensure they are registered as your guest.\n\n	\n\n	\n\n	\n\n	At this event Colin will be speaking about Business Mindset\, Sales & Marketing tip and strategies that you will be able to walk away with and implement into your business immediately. This is an evening of business education and fun with him as you learn key items to assist you in taking your business to the next level.\n\n	\n\n	Upcoming Dates:\n\n	\n\n	July 24 Best Western\, 319 North Road\, Coquitlam\n\n	\n\n	\n\n	\n\n	7-9pm
X-ALT-DESC;FMTTYPE=text/html:<p class="MsoNormal" style="margin-bottom:12.0pt\;line-height:normal">\n	<span mso-fareast-font-family:="" new="" style="font-size:12.0pt\;font-family:" times="">Colin Sprake is an extremely charismatic speaker and is frequently invited to speak or be master of ceremonies at events all over the world\, events as small as a board of directors meetings through to big corporate and association functions with hundreds or even thousands of attendees.<br />\n	<br />\n	<br />\n	<br />\n	He is putting on a evening called <b>Mastering Your Business for Maximum PROFIT &amp\; SUCCESS</b> throughout the lower mainland.<br />\n	<br />\n	<br />\n	<br />\n	You are welcome to invite a business partner with you\, all I ask is you send me their name and I can ensure they are registered as your guest.<br />\n	<br />\n	<br />\n	<br />\n	At this event Colin will be speaking about Business Mindset\, Sales &amp\; Marketing tip and strategies that you will be able to walk away with and implement into your business immediately. This is an evening of business education and fun with him as you learn key items to assist you in taking your business to the next level.<br />\n	<br />\n	Upcoming Dates:</span><br />\n	<br />\n	July 24 Best Western\, 319 North Road\, Coquitlam<br />\n	<br />\n	<br />\n	<br />\n	<span new="" style="font-size:12.0pt\;\nfont-family:" times="">7-9pm</span></p>\n
LOCATION:Best Western\, 319 North Road\, Coquitlam
UID:e.749.2085
SEQUENCE:3
DTSTAMP:20260421T083234Z
URL:https://business.businessinsurrey.com/events/details/mastering-your-business-for-maximum-profit-success-07-24-2012-2085
END:VEVENT

END:VCALENDAR
