BEGIN:VCALENDAR
VERSION:2.0
PRODID:-//ChamberMaster//Event Calendar 2.0//EN
METHOD:PUBLISH
X-PUBLISHED-TTL:P3D
REFRESH-INTERVAL:P3D
CALSCALE:GREGORIAN
BEGIN:VEVENT
DTSTART:20120627T020000Z
DTEND:20120627T040000Z
X-MICROSOFT-CDO-ALLDAYEVENT:FALSE
SUMMARY:Mastering Your Business for Maximum PROFIT & SUCCESS
DESCRIPTION:This event will assist you to grow your business and is a great event to attend!\n\nColin Sprake\, a business expert\, will be speaking to business owners just like you.\n\nHe will be educating you on Business Mindset\, Sales & Marketing strategies that you will be able to use immediately in your business.\n\n\n\nThe best part is there is no cost to attend!\n\n\n\nTo register either:\n\nemail cherylb@mymsuccess.com\n\ncall our office at 778-565-4090\n\nOnline registration www.knowledgeactionprofit.com using ticket # 5044 (Surrey Board of Trade)\n\n\n\nWe look forward to hearing from you soon.\n\n\n\nTo your Success\,
X-ALT-DESC;FMTTYPE=text/html:This event will assist you to grow your business and is a great event to attend!<br />\nColin Sprake\, a business expert\, will be speaking to business owners just like you.<br />\nHe will be educating you on Business Mindset\, Sales &amp\; Marketing strategies that you will be able to use immediately in your business.<br />\n<br />\nThe best part is there is no cost to attend!<br />\n<br />\nTo register either:<br />\nemail cherylb@mymsuccess.com<br />\ncall our office at 778-565-4090<br />\nOnline registration www.knowledgeactionprofit.com using ticket # 5044 (Surrey Board of Trade)<br />\n<br />\nWe look forward to hearing from you soon.<br />\n<br />\nTo your Success\,<br />\n<br />\n<br />\n<br />\n<table cellpadding="0" cellspacing="0" class="txtNormal" style="width: 591px\; height: 1px\;">\n	<tbody>\n		<tr style="height: 4px\;">\n			<td style="width: 110px\;">\n				&nbsp\;</td>\n			<td style="width: 490px\;">\n				&nbsp\;</td>\n		</tr>\n		<tr>\n			<td style="padding-left: 10px\;">\n				&nbsp\;</td>\n		</tr>\n		<tr style="height: 6px\;">\n			<td>\n				&nbsp\;</td>\n		</tr>\n		<tr>\n			<td colspan="2" style="padding-left: 10px\;">\n				&nbsp\;</td>\n		</tr>\n		<tr>\n			<td style="height: 4px\;">\n				&nbsp\;</td>\n		</tr>\n	</tbody>\n</table>\n
LOCATION:Holiday Inn\, 17530-64th Ave\, Surrey (Cloverdale)
UID:e.749.2033
SEQUENCE:3
DTSTAMP:20260421T095115Z
URL:https://business.businessinsurrey.com/events/details/mastering-your-business-for-maximum-profit-success-06-26-2012-2033
END:VEVENT

END:VCALENDAR
