BEGIN:VCALENDAR
VERSION:2.0
PRODID:-//ChamberMaster//Event Calendar 2.0//EN
METHOD:PUBLISH
X-PUBLISHED-TTL:P3D
REFRESH-INTERVAL:P3D
CALSCALE:GREGORIAN
BEGIN:VEVENT
DTSTART:20160308T190000Z
DTEND:20160308T220000Z
X-MICROSOFT-CDO-ALLDAYEVENT:FALSE
SUMMARY:March 8\, 2016 - 7th Surrey Women in Business Awards
DESCRIPTION:7th Annual Surrey Women in Business Awards\n\n\n\nOn Tuesday\, March 8th\, the Surrey Board of Trade will host the 7th Annual Surrey Women in Business Awards Luncheon\, with Presenting Sponsor Vancity Savings Credit Union.  This event recognizes the hard work of Surrey's businesswomen and their contributions to the community.  \n\n \n\nWe will be joined by keynote speaker Christine Day\, CEO of Luvo. Christine has been named Fortune Magazine's top 5 International Most Powerful Women\, Canada's Top 100 Women\, and named CEO of the Year\, by Globe and Mail and Business in Vancouver.\n\n \n\nSteve Darling of Global BC is back as Master of Ceremonies!\n\n\n\nJoin us as we celebrate the successful women in Surrey that make our business community such a vibrant place! Awards will be presented in five categories:\n\n\n\n1. Entrepreneur: Is an owner or significant shareholder of any business size\n\n2. Corporate/Leadership: Holds a senior/executive level position in a public or private-owned business\n\n3. Professional: Nominees have a professional designation\, i.e. accountant\, notary\, lawyer\, engineer\n\n* Helpful Hint: please include the nominee's designation with a brief explanation.\n\n4. Not-for-Profit Leader: Nominee holds a paid position as CEO\, Executive Director or Senior Manager\n\n5. Social Trailblazer: A founder or leader of an organization\, initiative\, or project that makes a significant social\, economic\, or environmental impact by building progressive and sustainable solutions to a complex issue facing our local community.\n\n\n\n\n\n\n\n\n\n\n\nNominations for the 2017 event will open in the fall!
X-ALT-DESC;FMTTYPE=text/html:<u><strong>7th Annual Surrey Women in Business Awards</strong></u><br />\n<br />\n<span style="font-family:arial\;"><span style="font-size:10.0pt\;">On Tuesday\, March 8th\, the Surrey Board of Trade will host the <strong>7<sup>th</sup> Annual Surrey Women in Business Awards Luncheon</strong>\, with Presenting Sponsor <strong>Vancity Savings Credit Union.</strong>&nbsp\; This event recognizes the hard work of Surrey&rsquo\;s businesswomen and their contributions to the community.&nbsp\; </span></span><br />\n&nbsp\;<br />\n<strong><span style="font-family:arial\;"><span style="font-size:10.0pt\;">We will be joined by keynote speaker Christine Day\, CEO of Luvo. Christine has been named Fortune Magazine&rsquo\;s top 5 International Most Powerful Women\, Canada&rsquo\;s Top 100 Women\, and named CEO of the Year\, by Globe and Mail and Business in Vancouver.</span></span></strong><br />\n&nbsp\;<br />\n<span style="font-family:arial\;"><span style="font-size:10.0pt\;">Steve Darling of Global BC is back as Master of Ceremonies!</span></span><br />\n<br />\nJoin us as we celebrate the successful women in Surrey that make our business community such a vibrant place! Awards will be presented in five categories:<br />\n<br />\n<strong>1. Entrepreneur:</strong> Is an owner or significant shareholder of any business size<br />\n<strong>2. Corporate/Leadership: </strong>Holds a senior/executive level position in a public or private-owned business<br />\n<strong>3. Professional:</strong> Nominees have a professional designation\, i.e. accountant\, notary\, lawyer\, engineer<br />\n* Helpful Hint: please include the nominee&rsquo\;s designation with a brief explanation.<br />\n<strong>4. Not-for-Profit Leader:</strong> Nominee holds a paid position as CEO\, Executive Director or Senior Manager<br />\n<strong>5. Social Trailblazer:</strong> A founder or leader of an organization\, initiative\, or project that makes a significant social\, economic\, or environmental impact by building progressive and sustainable solutions to a complex issue facing our local community.<br />\n<br />\n<br />\n<br />\n<br />\n<br />\n<strong>Nominations for the 2017 event will open in the fall! </strong><br />\n<br />\n&nbsp\;
LOCATION:Sheraton Guildford Vancouver Hotel (15269 104 Avenue\, Surrey)
UID:e.749.3707
SEQUENCE:3
DTSTAMP:20260424T040354Z
URL:https://business.businessinsurrey.com/events/details/march-8-2016-7th-surrey-women-in-business-awards-03-08-2016-3707
END:VEVENT

END:VCALENDAR
