BEGIN:VCALENDAR
VERSION:2.0
PRODID:-//ChamberMaster//Event Calendar 2.0//EN
METHOD:PUBLISH
X-PUBLISHED-TTL:P3D
REFRESH-INTERVAL:P3D
CALSCALE:GREGORIAN
BEGIN:VEVENT
DTSTART:20150305T193000Z
DTEND:20150305T213000Z
X-MICROSOFT-CDO-ALLDAYEVENT:FALSE
SUMMARY:March 5\, 2015 - Women in Business Awards Lunch
DESCRIPTION:Sixth Annual Surrey Women in Business Awards\n\n\n\nThis event is now sold-out!  Please contact 604-581-7130 to be added to the wait-list.  \n\n\n\nCelebrate the achievements of Women in Business at the 6th Annual Surrey Women in Business Awards\, featuring keynote speaker Justin Trudeau\, Leader of the Liberal Party of Canada\, and MP for Papineau\, Quebec\, and MC Steve Darling! This event\, taking place on March 5\, 2015\, recognizes the hard work of Surrey's businesswomen and their contributions to the community\, in four award categories: \n\n\n	Entrepreneur\n	Corporate/Leadership\n	Professional\n	Not-for-Profit Leader\n\nFor more information\, email brianne@businessinsurrey.com or call 604.634.0347.
X-ALT-DESC;FMTTYPE=text/html:<span style="font-size:14px\;"><strong>Sixth Annual Surrey Women in Business Awards</strong></span><br />\n<br />\n<span style="font-family:arial\;"><span style="font-size:10.0pt\;"><font face="Arial\, Helvetica\, sans-serif"><span style="color:#FF0000\;"><strong>This event is now sold-out!&nbsp\; Please contact 604-581-7130 to be added to the wait-list.&nbsp\; </strong></span><br />\n<br />\n<span><font>Celebrate the achievements of Women in Business at the 6th Annual Surrey Women in Business Awards\, featuring keynote speaker Justin Trudeau\, Leader of the Liberal Party of Canada\, and MP for Papineau\, Quebec\, and MC Steve Darling! </font></span></font>This event\, taking place on March 5\, 2015\, recognizes the hard work of Surrey&rsquo\;s businesswomen and their contributions to the community\, in </span></span><span style="font-family:arial\;"><span style="font-size:10.0pt\;">four award categories: </span></span>\n\n<ul>\n	<li><span style="font-family:arial\;"><span style="font-size:10.0pt\;">Entrepreneur</span></span></li>\n	<li><span style="font-family:arial\;"><span style="font-size:10.0pt\;">Corporate/Leadership</span></span></li>\n	<li><span style="font-family:arial\;"><span style="font-size:10.0pt\;">Professional</span></span></li>\n	<li><span style="font-family:arial\;"><span style="font-size:10.0pt\;">Not-for-Profit Leader</span></span></li>\n</ul>\n<span style="font-family:arial\;"><span style="font-size:10.0pt\;">For more information\, email brianne@businessinsurrey.com or call 604.634.0347.</span></span>
LOCATION:Eaglequest Golf Course 7778 152 Street Surrey\, BC
UID:e.749.2832
SEQUENCE:3
DTSTAMP:20260423T091058Z
URL:https://business.businessinsurrey.com/events/details/march-5-2015-women-in-business-awards-lunch-03-05-2015-2832
END:VEVENT

END:VCALENDAR
