BEGIN:VCALENDAR
VERSION:2.0
PRODID:-//ChamberMaster//Event Calendar 2.0//EN
METHOD:PUBLISH
X-PUBLISHED-TTL:P3D
REFRESH-INTERVAL:P3D
CALSCALE:GREGORIAN
BEGIN:VEVENT
DTSTART;VALUE=DATE:20100304
DTEND;VALUE=DATE:20100305
TRANSP:TRANSPARENT
X-MICROSOFT-CDO-ALLDAYEVENT:TRUE
SUMMARY:March 4\, 2010 - Business to Business at Fraser Downs
DESCRIPTION:
X-ALT-DESC;FMTTYPE=text/html:
LOCATION:
UID:e.749.1601
SEQUENCE:3
DTSTAMP:20260422T235449Z
URL:https://business.businessinsurrey.com/events/details/march-4-2010-business-to-business-at-fraser-downs-03-04-2010-1601
END:VEVENT

END:VCALENDAR
