BEGIN:VCALENDAR
VERSION:2.0
PRODID:-//ChamberMaster//Event Calendar 2.0//EN
METHOD:PUBLISH
X-PUBLISHED-TTL:P3D
REFRESH-INTERVAL:P3D
CALSCALE:GREGORIAN
BEGIN:VEVENT
DTSTART;VALUE=DATE:20100331
DTEND;VALUE=DATE:20100401
TRANSP:TRANSPARENT
X-MICROSOFT-CDO-ALLDAYEVENT:TRUE
SUMMARY:March 31\, 2010 - Mayor's Luncheon
DESCRIPTION:
X-ALT-DESC;FMTTYPE=text/html:
LOCATION:
UID:e.749.1580
SEQUENCE:3
DTSTAMP:20260422T235246Z
URL:https://business.businessinsurrey.com/events/details/march-31-2010-mayor-s-luncheon-03-31-2010-1580
END:VEVENT

END:VCALENDAR
