BEGIN:VCALENDAR
VERSION:2.0
PRODID:-//ChamberMaster//Event Calendar 2.0//EN
METHOD:PUBLISH
X-PUBLISHED-TTL:P3D
REFRESH-INTERVAL:P3D
CALSCALE:GREGORIAN
BEGIN:VEVENT
DTSTART:20160331T003000Z
DTEND:20160331T023000Z
X-MICROSOFT-CDO-ALLDAYEVENT:FALSE
SUMMARY:March 30\, 2016 - Business to Business at DIVERSEcity Community Resource Society
DESCRIPTION:Serving the community since 1978\, DIVERSEcity will celebrate our first year in the newly built-to-suit building on 134 Street & 76 Avenue in the heart of Newton.\n\n\n\nJoin us on March 30 to explore:\n\n	Programs that support Syrian refugees and how you & your business can help.\n	How interpretations and translation services can further enable your business.\n	Our food security program and enjoy a delicious dessert (Tiramisu!) made by the Community Kitchen Program.\n	Check out the rooftop patio available for rent for all your intimate business gatherings. (capacity of up to 60 guests)\n	DIVERSEcity immigrant youth employment program & how you may find your next youth talent from us.
X-ALT-DESC;FMTTYPE=text/html:Serving the community since 1978\, DIVERSE<em>city</em> will celebrate our first year in the newly built-to-suit building on 134 Street &amp\; 76 Avenue in the heart of Newton.<br />\n<br />\nJoin us on March 30 to explore:\n<ul>\n	<li>Programs that support Syrian refugees and how you &amp\; your business can help.</li>\n	<li>How interpretations and translation services can further enable your business.</li>\n	<li>Our food security program and enjoy a delicious dessert (Tiramisu!) made by the Community Kitchen Program.</li>\n	<li>Check out the rooftop patio available for rent for all your intimate business gatherings. (capacity of up to 60 guests)</li>\n	<li>DIVERSE<em>city</em> immigrant youth employment program &amp\; how you may find your next youth talent from us.</li>\n</ul>\n
LOCATION:DIVERSEcity Community Resources Society 13455 76 Avenue\, Surrey
UID:e.749.3741
SEQUENCE:3
DTSTAMP:20260424T053118Z
URL:https://business.businessinsurrey.com/events/details/march-30-2016-business-to-business-at-diversecity-community-resource-society-03-30-2016-3741
END:VEVENT

END:VCALENDAR
