BEGIN:VCALENDAR
VERSION:2.0
PRODID:-//ChamberMaster//Event Calendar 2.0//EN
METHOD:PUBLISH
X-PUBLISHED-TTL:P3D
REFRESH-INTERVAL:P3D
CALSCALE:GREGORIAN
BEGIN:VEVENT
DTSTART:20150325T233000Z
DTEND:20150326T003000Z
X-MICROSOFT-CDO-ALLDAYEVENT:FALSE
SUMMARY:March 25\, 2015 - Surrey Transportation Town Hall Forum
DESCRIPTION:SURREY TRANSPORTATION TOWN HALL FORUMS\n\n\n\nSouth Surrey/White Rock\n\n\n\nOrganized by the Surrey Board of Trade  and SSWR - Chamber of Commerce VOTING YES FOR TRANSPORTATION IMPROVEMENTS IN SURREY TO SUPPORT SURREY'S ECONOMY
X-ALT-DESC;FMTTYPE=text/html:SURREY TRANSPORTATION TOWN HALL FORUMS<br />\n<br />\nSouth Surrey/White Rock<br />\n<br />\nOrganized by the Surrey Board of Trade&nbsp\; and SSWR - Chamber of Commerce VOTING YES FOR TRANSPORTATION IMPROVEMENTS IN SURREY TO SUPPORT SURREY&rsquo\;S ECONOMY
LOCATION:Rotary Fieldhouse 2197 - 148 street (14600 Rotary Way) Surrey\, BC
UID:e.749.3326
SEQUENCE:3
DTSTAMP:20260423T093255Z
URL:https://business.businessinsurrey.com/events/details/march-25-2015-surrey-transportation-town-hall-forum-03-25-2015-3326
END:VEVENT

END:VCALENDAR
